BEGIN:VCALENDAR
VERSION:2.0
PRODID:-//Urban Hound Dog Park &amp; Bar - ECPv6.15.20//NONSGML v1.0//EN
CALSCALE:GREGORIAN
METHOD:PUBLISH
X-ORIGINAL-URL:https://www.urbanhoundne.com
X-WR-CALDESC:Events for Urban Hound Dog Park &amp; Bar
REFRESH-INTERVAL;VALUE=DURATION:PT1H
X-Robots-Tag:noindex
X-PUBLISHED-TTL:PT1H
BEGIN:VTIMEZONE
TZID:UTC
BEGIN:STANDARD
TZOFFSETFROM:+0000
TZOFFSETTO:+0000
TZNAME:UTC
DTSTART:20250101T000000
END:STANDARD
END:VTIMEZONE
BEGIN:VEVENT
DTSTART;VALUE=DATE:20260101
DTEND;VALUE=DATE:20260102
DTSTAMP:20260424T203819
CREATED:20251130T205850Z
LAST-MODIFIED:20251130T205850Z
UID:2656-1767225600-1767311999@www.urbanhoundne.com
SUMMARY:Holiday Closure - No Daycare or Bar Services
DESCRIPTION:
URL:https://www.urbanhoundne.com/event/holiday-closure-no-daycare-or-bar-services-2/
LOCATION:Urban Hound Dog Park & Bar\, 4848 Van Dorn Street Suite 1\, Lincoln\, NE\, 68506\, United States
END:VEVENT
BEGIN:VEVENT
DTSTART;TZID=UTC:20260111T100000
DTEND;TZID=UTC:20260111T110000
DTSTAMP:20260424T203819
CREATED:20251205T025901Z
LAST-MODIFIED:20251205T025901Z
UID:2662-1768125600-1768129200@www.urbanhoundne.com
SUMMARY:Paws & Poses Yoga
DESCRIPTION:Join us for a dog-yoga class from Kjerstin Egger – $10 per person\, includes a free mimosa! Standard dog entry rates apply
URL:https://www.urbanhoundne.com/event/paws-poses-yoga-6/
LOCATION:Urban Hound Dog Park & Bar\, 4848 Van Dorn Street Suite 1\, Lincoln\, NE\, 68506\, United States
END:VEVENT
BEGIN:VEVENT
DTSTART;TZID=UTC:20260116T183000
DTEND;TZID=UTC:20260116T210000
DTSTAMP:20260424T203819
CREATED:20260109T031904Z
LAST-MODIFIED:20260109T031904Z
UID:2681-1768588200-1768597200@www.urbanhoundne.com
SUMMARY:Board Game Night
DESCRIPTION:Join us for a Board Game Night! Bring a human or furry friend to join in on the Friday night fun! Must be 18+ to enter/play!
URL:https://www.urbanhoundne.com/event/board-game-night-4/
LOCATION:Urban Hound Dog Park & Bar\, 4848 Van Dorn Street Suite 1\, Lincoln\, NE\, 68506\, United States
END:VEVENT
BEGIN:VEVENT
DTSTART;TZID=UTC:20260123T183000
DTEND;TZID=UTC:20260123T210000
DTSTAMP:20260424T203819
CREATED:20260109T031926Z
LAST-MODIFIED:20260109T031926Z
UID:2682-1769193000-1769202000@www.urbanhoundne.com
SUMMARY:Dice Game Night
DESCRIPTION:Join us for a Dice Game Night! Bring a human or furry friend to join in on the Friday night fun! Must be 18+ to enter/play!
URL:https://www.urbanhoundne.com/event/dice-game-night-4/
LOCATION:Urban Hound Dog Park & Bar\, 4848 Van Dorn Street Suite 1\, Lincoln\, NE\, 68506\, United States
END:VEVENT
BEGIN:VEVENT
DTSTART;TZID=UTC:20260130T183000
DTEND;TZID=UTC:20260130T210000
DTSTAMP:20260424T203819
CREATED:20260109T031957Z
LAST-MODIFIED:20260109T031957Z
UID:2683-1769797800-1769806800@www.urbanhoundne.com
SUMMARY:Card Game Night
DESCRIPTION:Join us for a Card Game Night! Bring a human or furry friend to join in on the Friday night fun! Must be 18+ to enter/play!
URL:https://www.urbanhoundne.com/event/card-game-night-3/
LOCATION:Urban Hound Dog Park & Bar\, 4848 Van Dorn Street Suite 1\, Lincoln\, NE\, 68506\, United States
END:VEVENT
END:VCALENDAR