BEGIN:VCALENDAR
VERSION:2.0
PRODID:-//Urban Hound Dog Park &amp; Bar - ECPv6.15.20//NONSGML v1.0//EN
CALSCALE:GREGORIAN
METHOD:PUBLISH
X-WR-CALNAME:Urban Hound Dog Park &amp; Bar
X-ORIGINAL-URL:https://www.urbanhoundne.com
X-WR-CALDESC:Events for Urban Hound Dog Park &amp; Bar
REFRESH-INTERVAL;VALUE=DURATION:PT1H
X-Robots-Tag:noindex
X-PUBLISHED-TTL:PT1H
BEGIN:VTIMEZONE
TZID:UTC
BEGIN:STANDARD
TZOFFSETFROM:+0000
TZOFFSETTO:+0000
TZNAME:UTC
DTSTART:20240101T000000
END:STANDARD
END:VTIMEZONE
BEGIN:VEVENT
DTSTART;TZID=UTC:20250827T190000
DTEND;TZID=UTC:20250827T210000
DTSTAMP:20260425T123848
CREATED:20250703T021122Z
LAST-MODIFIED:20250703T021122Z
UID:2507-1756321200-1756328400@www.urbanhoundne.com
SUMMARY:Bingo Night
DESCRIPTION:Bring your pup to play for a chance to win some paw-some prizes!
URL:https://www.urbanhoundne.com/event/bingo-night-4/
LOCATION:Urban Hound Dog Park & Bar\, 4848 Van Dorn Street Suite 1\, Lincoln\, NE\, 68506\, United States
END:VEVENT
BEGIN:VEVENT
DTSTART;TZID=UTC:20250820T190000
DTEND;TZID=UTC:20250820T210000
DTSTAMP:20260425T123849
CREATED:20250703T021000Z
LAST-MODIFIED:20250729T013647Z
UID:2503-1755716400-1755723600@www.urbanhoundne.com
SUMMARY:Trivia Night: Huskers
DESCRIPTION:Test your knowledge at Trivia Night at Urban Hound! Play for some paw-some prizes and bring your pup for a fun night out!
URL:https://www.urbanhoundne.com/event/trivia-night-24/
LOCATION:Urban Hound Dog Park & Bar\, 4848 Van Dorn Street Suite 1\, Lincoln\, NE\, 68506\, United States
END:VEVENT
BEGIN:VEVENT
DTSTART;TZID=UTC:20250816T170000
DTEND;TZID=UTC:20250816T190000
DTSTAMP:20260425T123849
CREATED:20250806T174637Z
LAST-MODIFIED:20250806T174637Z
UID:2526-1755363600-1755370800@www.urbanhoundne.com
SUMMARY:Franks & Facts: The Phoenix Remix Animal Rescue Trivia Night
DESCRIPTION:For $10 enjoy all you can eat hot dogs\, trivia\, and a raffle with prizes + a chance to meet some adoptable dogs from The Phoenix Remix Animal Rescue!
URL:https://www.urbanhoundne.com/event/franks-facts-the-phoenix-remix-animal-rescue-trivia-night/
LOCATION:Urban Hound Dog Park & Bar\, 4848 Van Dorn Street Suite 1\, Lincoln\, NE\, 68506\, United States
END:VEVENT
BEGIN:VEVENT
DTSTART;TZID=UTC:20250813T190000
DTEND;TZID=UTC:20250813T210000
DTSTAMP:20260425T123849
CREATED:20250703T021033Z
LAST-MODIFIED:20250729T013745Z
UID:2505-1755111600-1755118800@www.urbanhoundne.com
SUMMARY:Music Bingo: Movie Soundtracks
DESCRIPTION:Bring your pup to play for a chance to win some paw-some prizes!
URL:https://www.urbanhoundne.com/event/bingo-night-3/
LOCATION:Urban Hound Dog Park & Bar\, 4848 Van Dorn Street Suite 1\, Lincoln\, NE\, 68506\, United States
END:VEVENT
BEGIN:VEVENT
DTSTART;VALUE=DATE:20250810
DTEND;VALUE=DATE:20250816
DTSTAMP:20260425T123849
CREATED:20250716T193257Z
LAST-MODIFIED:20250728T131704Z
UID:2513-1754784000-1755302399@www.urbanhoundne.com
SUMMARY:Bark to School
DESCRIPTION:
URL:https://www.urbanhoundne.com/event/bark-to-school-2/
LOCATION:Urban Hound Dog Park & Bar\, 4848 Van Dorn Street Suite 1\, Lincoln\, NE\, 68506\, United States
ATTACH;FMTTYPE=image/png:https://www.urbanhoundne.com/wp-content/uploads/2025/07/fbook-event-5-scaled.png
END:VEVENT
BEGIN:VEVENT
DTSTART;TZID=UTC:20250806T190000
DTEND;TZID=UTC:20250806T210000
DTSTAMP:20260425T123849
CREATED:20250703T020912Z
LAST-MODIFIED:20250729T013627Z
UID:2501-1754506800-1754514000@www.urbanhoundne.com
SUMMARY:Trivia Night: Harry Potter
DESCRIPTION:Test your knowledge at Trivia Night at Urban Hound! Play for some paw-some prizes and bring your pup for a fun night out!
URL:https://www.urbanhoundne.com/event/trivia-night-23/
LOCATION:Urban Hound Dog Park & Bar\, 4848 Van Dorn Street Suite 1\, Lincoln\, NE\, 68506\, United States
END:VEVENT
BEGIN:VEVENT
DTSTART;TZID=UTC:20250730T190000
DTEND;TZID=UTC:20250730T210000
DTSTAMP:20260425T123849
CREATED:20250601T234300Z
LAST-MODIFIED:20250729T013303Z
UID:2466-1753902000-1753909200@www.urbanhoundne.com
SUMMARY:Trivia Night: Around the World
DESCRIPTION:Test your knowledge at Trivia Night at Urban Hound! Play for some paw-some prizes and bring your pup for a fun night out!
URL:https://www.urbanhoundne.com/event/trivia-night-22/
LOCATION:Urban Hound Dog Park & Bar\, 4848 Van Dorn Street Suite 1\, Lincoln\, NE\, 68506\, United States
END:VEVENT
BEGIN:VEVENT
DTSTART;TZID=UTC:20250727T140000
DTEND;TZID=UTC:20250727T160000
DTSTAMP:20260425T123849
CREATED:20250702T143437Z
LAST-MODIFIED:20250702T143437Z
UID:2496-1753624800-1753632000@www.urbanhoundne.com
SUMMARY:Craft-ernoon
DESCRIPTION:$10 to craft canine inspired art! RSVP to urbanhoundne@gmail.com or at the front desk by July 25!
URL:https://www.urbanhoundne.com/event/craft-ernoon/
LOCATION:Urban Hound Dog Park & Bar\, 4848 Van Dorn Street Suite 1\, Lincoln\, NE\, 68506\, United States
ATTACH;FMTTYPE=image/png:https://www.urbanhoundne.com/wp-content/uploads/2024/01/Screenshot-2024-01-21-at-2.26.45 PM.png
END:VEVENT
BEGIN:VEVENT
DTSTART;TZID=UTC:20250723T190000
DTEND;TZID=UTC:20250723T210000
DTSTAMP:20260425T123849
CREATED:20250601T235623Z
LAST-MODIFIED:20250729T013809Z
UID:2468-1753297200-1753304400@www.urbanhoundne.com
SUMMARY:Music Bingo: Ladies of the 80's
DESCRIPTION:Join us for a totally rad – Ladies of the 80’s music bingo night! Bring your pup to play for a chance to win some paw-some prizes!
URL:https://www.urbanhoundne.com/event/bingo-night-2/
LOCATION:Urban Hound Dog Park & Bar\, 4848 Van Dorn Street Suite 1\, Lincoln\, NE\, 68506\, United States
END:VEVENT
BEGIN:VEVENT
DTSTART;TZID=UTC:20250716T190000
DTEND;TZID=UTC:20250716T210000
DTSTAMP:20260425T123849
CREATED:20250601T234205Z
LAST-MODIFIED:20250729T013341Z
UID:2464-1752692400-1752699600@www.urbanhoundne.com
SUMMARY:Trivia Night: The Office
DESCRIPTION:Join us for an Office-themed trivia night! Bring your pup\, your best Assistant (to the) Regional Manager\, and compete for prizes\, glory\, and ultimate Office bragging rights.
URL:https://www.urbanhoundne.com/event/trivia-night-21/
LOCATION:Urban Hound Dog Park & Bar\, 4848 Van Dorn Street Suite 1\, Lincoln\, NE\, 68506\, United States
ATTACH;FMTTYPE=image/png:https://www.urbanhoundne.com/wp-content/uploads/2025/06/image-13.png
END:VEVENT
BEGIN:VEVENT
DTSTART;TZID=UTC:20250713T100000
DTEND;TZID=UTC:20250713T110000
DTSTAMP:20260425T123849
CREATED:20250616T013622Z
LAST-MODIFIED:20250702T143623Z
UID:2494-1752400800-1752404400@www.urbanhoundne.com
SUMMARY:Paws & Poses Yoga
DESCRIPTION:Join us for a dog-yoga class from Kjerstin Egger – $10 per person\, includes a free mimosa! Standard dog entry rates apply
URL:https://www.urbanhoundne.com/event/paws-poses-yoga-3/
LOCATION:Urban Hound Dog Park & Bar\, 4848 Van Dorn Street Suite 1\, Lincoln\, NE\, 68506\, United States
END:VEVENT
BEGIN:VEVENT
DTSTART;TZID=UTC:20250709T190000
DTEND;TZID=UTC:20250709T210000
DTSTAMP:20260425T123849
CREATED:20250601T235919Z
LAST-MODIFIED:20250601T235919Z
UID:2470-1752087600-1752094800@www.urbanhoundne.com
SUMMARY:Barks\, Brews\, & Music Bingo
DESCRIPTION:Join us for a tail-wagging good time with the joy of furry friends\, brews\, and a lively game of music bingo with chances to win pawsome prizes!
URL:https://www.urbanhoundne.com/event/barks-brews-music-bingo-26/
LOCATION:Urban Hound Dog Park & Bar\, 4848 Van Dorn Street Suite 1\, Lincoln\, NE\, 68506\, United States
END:VEVENT
BEGIN:VEVENT
DTSTART;VALUE=DATE:20250704
DTEND;VALUE=DATE:20250705
DTSTAMP:20260425T123849
CREATED:20250611T141858Z
LAST-MODIFIED:20250611T141939Z
UID:2483-1751587200-1751673599@www.urbanhoundne.com
SUMMARY:Holiday Closure
DESCRIPTION:In observance of Independence Day\, Urban Hound Daycare and Dog Bar will be closed. Have a fun and safe holiday!
URL:https://www.urbanhoundne.com/event/holiday-closure-4/
LOCATION:Urban Hound Dog Park & Bar\, 4848 Van Dorn Street Suite 1\, Lincoln\, NE\, 68506\, United States
ATTACH;FMTTYPE=image/png:https://www.urbanhoundne.com/wp-content/uploads/2023/06/dog-bless-fbook-1.png
END:VEVENT
BEGIN:VEVENT
DTSTART;TZID=UTC:20250702T190000
DTEND;TZID=UTC:20250702T210000
DTSTAMP:20260425T123849
CREATED:20250601T234125Z
LAST-MODIFIED:20250601T234230Z
UID:2462-1751482800-1751490000@www.urbanhoundne.com
SUMMARY:Trivia Night
DESCRIPTION:Test your knowledge at Trivia Night at Urban Hound! Play for some paw-some prizes and bring your pup for a fun night out!
URL:https://www.urbanhoundne.com/event/trivia-night-20/
LOCATION:Urban Hound Dog Park & Bar\, 4848 Van Dorn Street Suite 1\, Lincoln\, NE\, 68506\, United States
END:VEVENT
BEGIN:VEVENT
DTSTART;TZID=UTC:20250629T150000
DTEND;TZID=UTC:20250629T200000
DTSTAMP:20260425T123849
CREATED:20250527T022335Z
LAST-MODIFIED:20250616T014346Z
UID:2374-1751209200-1751227200@www.urbanhoundne.com
SUMMARY:Dog Bless America – 4th of July Costume Parade
DESCRIPTION:Join us for a parade of your dogs best Red\, White and Blue for our Dog Bless America Event!
URL:https://www.urbanhoundne.com/event/dog-bless-america-4th-of-july-costume-parade/
LOCATION:Urban Hound Dog Park & Bar\, 4848 Van Dorn Street Suite 1\, Lincoln\, NE\, 68506\, United States
END:VEVENT
BEGIN:VEVENT
DTSTART;TZID=UTC:20250629T100000
DTEND;TZID=UTC:20250629T110000
DTSTAMP:20260425T123849
CREATED:20250616T013534Z
LAST-MODIFIED:20250616T013534Z
UID:2492-1751191200-1751194800@www.urbanhoundne.com
SUMMARY:Paws & Poses Yoga
DESCRIPTION:Join us for a FREE yoga class with Christy Johnson! Standard dog entry rates apply
URL:https://www.urbanhoundne.com/event/paws-poses-yoga-2/
LOCATION:Urban Hound Dog Park & Bar\, 4848 Van Dorn Street Suite 1\, Lincoln\, NE\, 68506\, United States
END:VEVENT
BEGIN:VEVENT
DTSTART;VALUE=DATE:20250628
DTEND;VALUE=DATE:20250629
DTSTAMP:20260425T123849
CREATED:20250602T185911Z
LAST-MODIFIED:20250602T185911Z
UID:2479-1751068800-1751155199@www.urbanhoundne.com
SUMMARY:First-Time Free
DESCRIPTION:Every Saturday in June\, first-time guests get 1 dog in FREE. Come see what all the hype is about and make Urban Hound you and your pup’s new favorite hangout!
URL:https://www.urbanhoundne.com/event/first-time-free-4/
LOCATION:Urban Hound Dog Park & Bar\, 4848 Van Dorn Street Suite 1\, Lincoln\, NE\, 68506\, United States
END:VEVENT
BEGIN:VEVENT
DTSTART;TZID=UTC:20250625T190000
DTEND;TZID=UTC:20250625T210000
DTSTAMP:20260425T123849
CREATED:20250527T022203Z
LAST-MODIFIED:20250527T022203Z
UID:2372-1750878000-1750885200@www.urbanhoundne.com
SUMMARY:Bingo Night
DESCRIPTION:
URL:https://www.urbanhoundne.com/event/bingo-night/
LOCATION:Urban Hound Dog Park & Bar\, 4848 Van Dorn Street Suite 1\, Lincoln\, NE\, 68506\, United States
END:VEVENT
BEGIN:VEVENT
DTSTART;VALUE=DATE:20250621
DTEND;VALUE=DATE:20250622
DTSTAMP:20260425T123849
CREATED:20250602T185837Z
LAST-MODIFIED:20250602T185837Z
UID:2477-1750464000-1750550399@www.urbanhoundne.com
SUMMARY:First-Time Free!
DESCRIPTION:Every Saturday in June\, first-time guests get 1 dog in FREE. Come see what all the hype is about and make Urban Hound you and your pup’s new favorite hangout!
URL:https://www.urbanhoundne.com/event/first-time-free-3/
LOCATION:Urban Hound Dog Park & Bar\, 4848 Van Dorn Street Suite 1\, Lincoln\, NE\, 68506\, United States
END:VEVENT
BEGIN:VEVENT
DTSTART;TZID=UTC:20250618T190000
DTEND;TZID=UTC:20250618T210000
DTSTAMP:20260425T123849
CREATED:20250527T022030Z
LAST-MODIFIED:20250527T022030Z
UID:2370-1750273200-1750280400@www.urbanhoundne.com
SUMMARY:Trivia Night
DESCRIPTION:Test your knowledge at Trivia Night at Urban Hound! Play for some paw-some prizes and bring your pup for a fun night out!
URL:https://www.urbanhoundne.com/event/trivia-night-19/
LOCATION:Urban Hound Dog Park & Bar\, 4848 Van Dorn Street Suite 1\, Lincoln\, NE\, 68506\, United States
END:VEVENT
BEGIN:VEVENT
DTSTART;TZID=UTC:20250615T120000
DTEND;TZID=UTC:20250615T200000
DTSTAMP:20260425T123849
CREATED:20250611T230629Z
LAST-MODIFIED:20250611T230629Z
UID:2489-1749988800-1750017600@www.urbanhoundne.com
SUMMARY:Pawther's Day - Mutts & Putts
DESCRIPTION:Spend your special day with your furry friend for drink specials and practice putts!
URL:https://www.urbanhoundne.com/event/pawthers-day-mutts-putts/
LOCATION:Urban Hound Dog Park & Bar\, 4848 Van Dorn Street Suite 1\, Lincoln\, NE\, 68506\, United States
END:VEVENT
BEGIN:VEVENT
DTSTART;TZID=UTC:20250615T100000
DTEND;TZID=UTC:20250615T110000
DTSTAMP:20260425T123849
CREATED:20250611T141637Z
LAST-MODIFIED:20250611T141637Z
UID:2481-1749981600-1749985200@www.urbanhoundne.com
SUMMARY:Paws & Poses Yoga
DESCRIPTION:Join us for a FREE yoga class with Christy Johnson! Standard dog entry rates apply
URL:https://www.urbanhoundne.com/event/paws-poses-yoga/
LOCATION:Urban Hound Dog Park & Bar\, 4848 Van Dorn Street Suite 1\, Lincoln\, NE\, 68506\, United States
END:VEVENT
BEGIN:VEVENT
DTSTART;VALUE=DATE:20250614
DTEND;VALUE=DATE:20250615
DTSTAMP:20260425T123849
CREATED:20250602T185813Z
LAST-MODIFIED:20250602T185813Z
UID:2475-1749859200-1749945599@www.urbanhoundne.com
SUMMARY:First-Time Free!
DESCRIPTION:Every Saturday in June\, first-time guests get 1 dog in FREE. Come see what all the hype is about and make Urban Hound you and your pup’s new favorite hangout!
URL:https://www.urbanhoundne.com/event/first-time-free-2/
LOCATION:Urban Hound Dog Park & Bar\, 4848 Van Dorn Street Suite 1\, Lincoln\, NE\, 68506\, United States
END:VEVENT
BEGIN:VEVENT
DTSTART;TZID=UTC:20250611T190000
DTEND;TZID=UTC:20250611T210000
DTSTAMP:20260425T123849
CREATED:20250527T021823Z
LAST-MODIFIED:20250527T021823Z
UID:2366-1749668400-1749675600@www.urbanhoundne.com
SUMMARY:Barks\, Brews\, & Music Bingo
DESCRIPTION:Join us for a tail-wagging good time with the joy of furry friends\, brews\, and a lively game of music bingo with chances to win pawsome prizes!
URL:https://www.urbanhoundne.com/event/barks-brews-music-bingo-25/
LOCATION:Urban Hound Dog Park & Bar\, 4848 Van Dorn Street Suite 1\, Lincoln\, NE\, 68506\, United States
END:VEVENT
BEGIN:VEVENT
DTSTART;VALUE=DATE:20250607
DTEND;VALUE=DATE:20250608
DTSTAMP:20260425T123849
CREATED:20250602T185748Z
LAST-MODIFIED:20250602T185748Z
UID:2473-1749254400-1749340799@www.urbanhoundne.com
SUMMARY:First-Time Free!
DESCRIPTION:Every Saturday in June\, first-time guests get 1 dog in FREE. Come see what all the hype is about and make Urban Hound you and your pup’s new favorite hangout!
URL:https://www.urbanhoundne.com/event/first-time-free/
LOCATION:Urban Hound Dog Park & Bar\, 4848 Van Dorn Street Suite 1\, Lincoln\, NE\, 68506\, United States
END:VEVENT
BEGIN:VEVENT
DTSTART;TZID=UTC:20250604T190000
DTEND;TZID=UTC:20250604T210000
DTSTAMP:20260425T123849
CREATED:20250527T021943Z
LAST-MODIFIED:20250527T021943Z
UID:2368-1749063600-1749070800@www.urbanhoundne.com
SUMMARY:Trivia Night
DESCRIPTION:Test your knowledge at Trivia Night at Urban Hound! Play for some paw-some prizes and bring your pup for a fun night out!
URL:https://www.urbanhoundne.com/event/trivia-night-18/
LOCATION:Urban Hound Dog Park & Bar\, 4848 Van Dorn Street Suite 1\, Lincoln\, NE\, 68506\, United States
END:VEVENT
BEGIN:VEVENT
DTSTART;TZID=UTC:20250531T160000
DTEND;TZID=UTC:20250531T200000
DTSTAMP:20260425T123849
CREATED:20250328T204229Z
LAST-MODIFIED:20250328T204729Z
UID:2215-1748707200-1748721600@www.urbanhoundne.com
SUMMARY:Mary Ellen's Food Truck
DESCRIPTION:
URL:https://www.urbanhoundne.com/event/mary-ellens-food-truck/
LOCATION:Urban Hound Dog Park & Bar\, 4848 Van Dorn Street Suite 1\, Lincoln\, NE\, 68506\, United States
END:VEVENT
BEGIN:VEVENT
DTSTART;TZID=UTC:20250531T140000
DTEND;TZID=UTC:20250531T180000
DTSTAMP:20260425T123849
CREATED:20250328T205958Z
LAST-MODIFIED:20250328T205958Z
UID:2218-1748700000-1748714400@www.urbanhoundne.com
SUMMARY:2nd Anniversary Party
DESCRIPTION:Join us for fun\, games\, prizes\, drink specials and Mary Ellen’s food truck to help us celebrate our 2nd anniversary!
URL:https://www.urbanhoundne.com/event/2nd-anniversary-party/
LOCATION:Urban Hound Dog Park & Bar\, 4848 Van Dorn Street Suite 1\, Lincoln\, NE\, 68506\, United States
END:VEVENT
BEGIN:VEVENT
DTSTART;VALUE=DATE:20250526
DTEND;VALUE=DATE:20250527
DTSTAMP:20260425T123849
CREATED:20250427T231828Z
LAST-MODIFIED:20250427T231828Z
UID:2349-1748217600-1748303999@www.urbanhoundne.com
SUMMARY:Holiday Closure
DESCRIPTION:In observance of Memorial Day\, daycare and bar services will be closed.
URL:https://www.urbanhoundne.com/event/holiday-closure-3/
LOCATION:Urban Hound Dog Park & Bar\, 4848 Van Dorn Street Suite 1\, Lincoln\, NE\, 68506\, United States
END:VEVENT
BEGIN:VEVENT
DTSTART;TZID=UTC:20250525T140000
DTEND;TZID=UTC:20250525T160000
DTSTAMP:20260425T123849
CREATED:20250427T233228Z
LAST-MODIFIED:20250427T233228Z
UID:2354-1748181600-1748188800@www.urbanhoundne.com
SUMMARY:Members Only: Craft-ernoon
DESCRIPTION:Are you a monthly or yearly member? Join us for a special members only Craft-ernoon event!
URL:https://www.urbanhoundne.com/event/members-only-craft-ernoon/
LOCATION:Urban Hound Dog Park & Bar\, 4848 Van Dorn Street Suite 1\, Lincoln\, NE\, 68506\, United States
ATTACH;FMTTYPE=image/png:https://www.urbanhoundne.com/wp-content/uploads/2024/01/Screenshot-2024-01-21-at-2.26.45 PM.png
END:VEVENT
END:VCALENDAR