BEGIN:VCALENDAR
VERSION:2.0
PRODID:-//Urban Hound Dog Park &amp; Bar - ECPv6.15.20//NONSGML v1.0//EN
CALSCALE:GREGORIAN
METHOD:PUBLISH
X-ORIGINAL-URL:https://www.urbanhoundne.com
X-WR-CALDESC:Events for Urban Hound Dog Park &amp; Bar
REFRESH-INTERVAL;VALUE=DURATION:PT1H
X-Robots-Tag:noindex
X-PUBLISHED-TTL:PT1H
BEGIN:VTIMEZONE
TZID:UTC
BEGIN:STANDARD
TZOFFSETFROM:+0000
TZOFFSETTO:+0000
TZNAME:UTC
DTSTART:20230101T000000
END:STANDARD
END:VTIMEZONE
BEGIN:VEVENT
DTSTART;TZID=UTC:20240511T140000
DTEND;TZID=UTC:20240511T160000
DTSTAMP:20260426T020458
CREATED:20240223T162145Z
LAST-MODIFIED:20240303T003038Z
UID:1757-1715436000-1715443200@www.urbanhoundne.com
SUMMARY:Blooms & Barks: Urban Hound Mother's Day
DESCRIPTION:Dog & Human Mom’s – Join us for Mother’s Day to build bouquets! $35 entry fee includes bouquet bar\, 1 free dog entry\, and a free drink of choice!
URL:https://www.urbanhoundne.com/event/blooms-barks-urban-hound-mothers-day/
LOCATION:Urban Hound Dog Park & Bar\, 4848 Van Dorn Street Suite 1\, Lincoln\, NE\, 68506\, United States
END:VEVENT
BEGIN:VEVENT
DTSTART;TZID=UTC:20240509T190000
DTEND;TZID=UTC:20240509T210000
DTSTAMP:20260426T020458
CREATED:20240414T000429Z
LAST-MODIFIED:20240414T000429Z
UID:1857-1715281200-1715288400@www.urbanhoundne.com
SUMMARY:Trivia Night
DESCRIPTION:Bring your furry friends & test your knowledge at Trivia Night! Compete for fantastic prizes while enjoying the company of both two-legged and four-legged friends for a night of fun!
URL:https://www.urbanhoundne.com/event/trivia-night-8/
LOCATION:Urban Hound Dog Park & Bar\, 4848 Van Dorn Street Suite 1\, Lincoln\, NE\, 68506\, United States
ATTACH;FMTTYPE=image/png:https://www.urbanhoundne.com/wp-content/uploads/2023/12/Screenshot-2023-12-22-at-9.13.53 AM.png
END:VEVENT
BEGIN:VEVENT
DTSTART;TZID=UTC:20240505T150000
DTEND;TZID=UTC:20240505T170000
DTSTAMP:20260426T020458
CREATED:20240427T202112Z
LAST-MODIFIED:20240427T202112Z
UID:1885-1714921200-1714928400@www.urbanhoundne.com
SUMMARY:Chihuahua Breed Meetup
DESCRIPTION:Join us for a Chihuahua breed meet up to help celebrate at our Furry Friend Fiesta! 
URL:https://www.urbanhoundne.com/event/chihuahua-breed-meetup/
LOCATION:Urban Hound Dog Park & Bar\, 4848 Van Dorn Street Suite 1\, Lincoln\, NE\, 68506\, United States
ATTACH;FMTTYPE=image/heic:https://www.urbanhoundne.com/wp-content/uploads/2024/04/IMG_7881.heic
END:VEVENT
BEGIN:VEVENT
DTSTART;TZID=UTC:20240505T120000
DTEND;TZID=UTC:20240505T200000
DTSTAMP:20260426T020458
CREATED:20240418T171335Z
LAST-MODIFIED:20240418T171335Z
UID:1875-1714910400-1714939200@www.urbanhoundne.com
SUMMARY:Furry Friend Fiesta
DESCRIPTION:
URL:https://www.urbanhoundne.com/event/furry-friend-fiesta/
LOCATION:Urban Hound Dog Park & Bar\, 4848 Van Dorn Street Suite 1\, Lincoln\, NE\, 68506\, United States
ATTACH;FMTTYPE=image/png:https://www.urbanhoundne.com/wp-content/uploads/2024/04/facebook-event-cover-size-40.png
END:VEVENT
BEGIN:VEVENT
DTSTART;TZID=UTC:20240504T163000
DTEND;TZID=UTC:20240504T200000
DTSTAMP:20260426T020458
CREATED:20240408T210546Z
LAST-MODIFIED:20240408T210546Z
UID:1850-1714840200-1714852800@www.urbanhoundne.com
SUMMARY:RedLinc BBQ at Urban Hound
DESCRIPTION:Bring your pups\, grab some yummy food from RedLinc BBQ and head on in to Urban Hound!
URL:https://www.urbanhoundne.com/event/redlinc-bbq-at-urban-hound-4/
LOCATION:Urban Hound Dog Park & Bar\, 4848 Van Dorn Street Suite 1\, Lincoln\, NE\, 68506\, United States
ATTACH;FMTTYPE=image/png:https://www.urbanhoundne.com/wp-content/uploads/2024/04/nachos.png
END:VEVENT
BEGIN:VEVENT
DTSTART;TZID=UTC:20240504T140000
DTEND;TZID=UTC:20240504T210000
DTSTAMP:20260426T020458
CREATED:20240223T151730Z
LAST-MODIFIED:20240226T204544Z
UID:1755-1714831200-1714856400@www.urbanhoundne.com
SUMMARY:Long Dog Derby
DESCRIPTION:Join us as we host our first annual Long Dog Derby! Hosting Dachshund and Corgi races\, a Human Hat Contest\, Specials on Mint Juleps and more!
URL:https://www.urbanhoundne.com/event/long-dog-derby/
LOCATION:Urban Hound Dog Park & Bar\, 4848 Van Dorn Street Suite 1\, Lincoln\, NE\, 68506\, United States
ATTACH;FMTTYPE=image/jpeg:https://www.urbanhoundne.com/wp-content/uploads/2023/09/DSC09972-scaled.jpg
END:VEVENT
BEGIN:VEVENT
DTSTART;TZID=UTC:20240501T173000
DTEND;TZID=UTC:20240501T193000
DTSTAMP:20260426T020458
CREATED:20240423T144943Z
LAST-MODIFIED:20240423T144943Z
UID:1883-1714584600-1714591800@www.urbanhoundne.com
SUMMARY:International Doodle Day - Breed Meetup
DESCRIPTION:Join us for International Doodle Day as we celebrate our curly haired friends with a special breed meetup! Offering HALF OFF all day passes as well!
URL:https://www.urbanhoundne.com/event/international-doodle-day-breed-meetup/
LOCATION:Urban Hound Dog Park & Bar\, 4848 Van Dorn Street Suite 1\, Lincoln\, NE\, 68506\, United States
ATTACH;FMTTYPE=image/jpeg:https://www.urbanhoundne.com/wp-content/uploads/2023/09/DSC09985-scaled.jpg
END:VEVENT
BEGIN:VEVENT
DTSTART;TZID=UTC:20240427T150000
DTEND;TZID=UTC:20240427T170000
DTSTAMP:20260426T020458
CREATED:20240317T010748Z
LAST-MODIFIED:20240317T010748Z
UID:1791-1714230000-1714237200@www.urbanhoundne.com
SUMMARY:Anything Australian Breed Meetup
DESCRIPTION:Calling all Aussie/Aussie Mix owners\, this special meetup is for you!
URL:https://www.urbanhoundne.com/event/anything-australian-breed-meetup-2/
LOCATION:Urban Hound Dog Park & Bar\, 4848 Van Dorn Street Suite 1\, Lincoln\, NE\, 68506\, United States
ATTACH;FMTTYPE=image/jpeg:https://www.urbanhoundne.com/wp-content/uploads/2023/12/DSC00123-scaled.jpg
END:VEVENT
BEGIN:VEVENT
DTSTART;TZID=UTC:20240426T190000
DTEND;TZID=UTC:20240426T210000
DTSTAMP:20260426T020458
CREATED:20240401T143153Z
LAST-MODIFIED:20240422T182946Z
UID:1844-1714158000-1714165200@www.urbanhoundne.com
SUMMARY:Karaoke Night
DESCRIPTION:Let’s serenade our furry and human friends for a fun night out at Urban Hound’s Karaoke Night!!
URL:https://www.urbanhoundne.com/event/karaoke-night/
LOCATION:Urban Hound Dog Park & Bar\, 4848 Van Dorn Street Suite 1\, Lincoln\, NE\, 68506\, United States
ATTACH;FMTTYPE=image/png:https://www.urbanhoundne.com/wp-content/uploads/2024/04/facebook-event-cover-size-39.png
END:VEVENT
BEGIN:VEVENT
DTSTART;TZID=UTC:20240426T173000
DTEND;TZID=UTC:20240426T210000
DTSTAMP:20260426T020458
CREATED:20240402T154949Z
LAST-MODIFIED:20240402T155112Z
UID:1847-1714152600-1714165200@www.urbanhoundne.com
SUMMARY:The Corner Kitchen
DESCRIPTION:Join us as we host The Corner Kitchen at Urban Hound for Freshly made and handcrafted traditional Afghan Cuisine!
URL:https://www.urbanhoundne.com/event/the-corner-kitchen/
LOCATION:Urban Hound Dog Park & Bar\, 4848 Van Dorn Street Suite 1\, Lincoln\, NE\, 68506\, United States
ATTACH;FMTTYPE=image/jpeg:https://www.urbanhoundne.com/wp-content/uploads/2024/04/308870641_776511180444888_1191366753880031072_n.jpg
END:VEVENT
BEGIN:VEVENT
DTSTART;TZID=UTC:20240425T183000
DTEND;TZID=UTC:20240425T210000
DTSTAMP:20260426T020458
CREATED:20240214T155419Z
LAST-MODIFIED:20240214T155419Z
UID:1745-1714069800-1714078800@www.urbanhoundne.com
SUMMARY:April Birthday Party
DESCRIPTION:Does your dog have a April birthday\, or do you?! Come together with other dog owners on April 25 to celebrate our loved ones being born in April!
URL:https://www.urbanhoundne.com/event/april-birthday-party/
LOCATION:Urban Hound Dog Park & Bar\, 4848 Van Dorn Street Suite 1\, Lincoln\, NE\, 68506\, United States
ATTACH;FMTTYPE=image/png:https://www.urbanhoundne.com/wp-content/uploads/2024/02/Screenshot-2024-02-14-at-9.51.05 AM.png
END:VEVENT
BEGIN:VEVENT
DTSTART;TZID=UTC:20240423T183000
DTEND;TZID=UTC:20240423T210000
DTSTAMP:20260426T020458
CREATED:20240315T002130Z
LAST-MODIFIED:20240315T002130Z
UID:1789-1713897000-1713906000@www.urbanhoundne.com
SUMMARY:Barks\, Brews\, & Music Bingo
DESCRIPTION:Join us for a tail-wagging good time with the joy of furry friends\, brews\, and a lively game of music bingo with chances to win pawsome prizes!
URL:https://www.urbanhoundne.com/event/barks-brews-music-bingo-14/
LOCATION:Urban Hound Dog Park & Bar\, 4848 Van Dorn Street Suite 1\, Lincoln\, NE\, 68506\, United States
ATTACH;FMTTYPE=image/png:https://www.urbanhoundne.com/wp-content/uploads/2023/09/music-bingo-2.png
END:VEVENT
BEGIN:VEVENT
DTSTART;TZID=UTC:20240421T140000
DTEND;TZID=UTC:20240421T160000
DTSTAMP:20260426T020458
CREATED:20240223T150422Z
LAST-MODIFIED:20240223T150422Z
UID:1749-1713708000-1713715200@www.urbanhoundne.com
SUMMARY:Crafternoon at Urban Hound
DESCRIPTION:Sip & Craft Canine Inspired Art with your Furry Friends! $10 per person\, email urbanhoundne@gmail.com to RSVP!
URL:https://www.urbanhoundne.com/event/crafternoon-at-urban-hound-4/
LOCATION:Urban Hound Dog Park & Bar\, 4848 Van Dorn Street Suite 1\, Lincoln\, NE\, 68506\, United States
ATTACH;FMTTYPE=image/png:https://www.urbanhoundne.com/wp-content/uploads/2024/01/Screenshot-2024-01-21-at-2.26.45 PM.png
END:VEVENT
BEGIN:VEVENT
DTSTART;TZID=UTC:20240418T183000
DTEND;TZID=UTC:20240418T210000
DTSTAMP:20260426T020458
CREATED:20240315T001939Z
LAST-MODIFIED:20240315T001939Z
UID:1785-1713465000-1713474000@www.urbanhoundne.com
SUMMARY:Trivia Night
DESCRIPTION:Bring your furry friends & test your knowledge at Trivia Night! Compete for fantastic prizes while enjoying the company of both two-legged and four-legged friends for a night of fun!
URL:https://www.urbanhoundne.com/event/trivia-night-7/
LOCATION:Urban Hound Dog Park & Bar\, 4848 Van Dorn Street Suite 1\, Lincoln\, NE\, 68506\, United States
ATTACH;FMTTYPE=image/png:https://www.urbanhoundne.com/wp-content/uploads/2023/12/Screenshot-2023-12-22-at-9.13.53 AM.png
END:VEVENT
BEGIN:VEVENT
DTSTART;TZID=UTC:20240413T150000
DTEND;TZID=UTC:20240413T170000
DTSTAMP:20260426T020458
CREATED:20240317T010835Z
LAST-MODIFIED:20240317T010835Z
UID:1793-1713020400-1713027600@www.urbanhoundne.com
SUMMARY:Retriever Breed Meetup
DESCRIPTION:Join us for a Retriever breed meetup at Urban Hound!
URL:https://www.urbanhoundne.com/event/retriever-breed-meetup-2/
LOCATION:Urban Hound Dog Park & Bar\, 4848 Van Dorn Street Suite 1\, Lincoln\, NE\, 68506\, United States
ATTACH;FMTTYPE=image/jpeg:https://www.urbanhoundne.com/wp-content/uploads/2023/09/DSC00241-scaled.jpg
END:VEVENT
BEGIN:VEVENT
DTSTART;TZID=UTC:20240409T183000
DTEND;TZID=UTC:20240409T210000
DTSTAMP:20260426T020458
CREATED:20240315T002040Z
LAST-MODIFIED:20240315T002040Z
UID:1787-1712687400-1712696400@www.urbanhoundne.com
SUMMARY:Barks\, Brews\, & Music Bingo
DESCRIPTION:Join us for a tail-wagging good time with the joy of furry friends\, brews\, and a lively game of music bingo with chances to win pawsome prizes!
URL:https://www.urbanhoundne.com/event/barks-brews-music-bingo-13/
LOCATION:Urban Hound Dog Park & Bar\, 4848 Van Dorn Street Suite 1\, Lincoln\, NE\, 68506\, United States
ATTACH;FMTTYPE=image/png:https://www.urbanhoundne.com/wp-content/uploads/2023/09/music-bingo-2.png
END:VEVENT
BEGIN:VEVENT
DTSTART;TZID=UTC:20240404T183000
DTEND;TZID=UTC:20240404T210000
DTSTAMP:20260426T020458
CREATED:20240315T001847Z
LAST-MODIFIED:20240315T001847Z
UID:1783-1712255400-1712264400@www.urbanhoundne.com
SUMMARY:Trivia Night
DESCRIPTION:Bring your furry friends & test your knowledge at Trivia Night! Compete for fantastic prizes while enjoying the company of both two-legged and four-legged friends for a night of fun!
URL:https://www.urbanhoundne.com/event/trivia-night-6/
LOCATION:Urban Hound Dog Park & Bar\, 4848 Van Dorn Street Suite 1\, Lincoln\, NE\, 68506\, United States
ATTACH;FMTTYPE=image/png:https://www.urbanhoundne.com/wp-content/uploads/2023/12/Screenshot-2023-12-22-at-9.13.53 AM.png
END:VEVENT
BEGIN:VEVENT
DTSTART;VALUE=DATE:20240331
DTEND;VALUE=DATE:20240401
DTSTAMP:20260426T020458
CREATED:20240312T015013Z
LAST-MODIFIED:20240312T015051Z
UID:1777-1711843200-1711929599@www.urbanhoundne.com
SUMMARY:Open 3-8pm for Easter
DESCRIPTION:We will be open with adjusted hours for Easter Sunday! Join us from 3-8pm!
URL:https://www.urbanhoundne.com/event/adjusted-hours-for-easter/
LOCATION:Urban Hound Dog Park & Bar\, 4848 Van Dorn Street Suite 1\, Lincoln\, NE\, 68506\, United States
ATTACH;FMTTYPE=image/png:https://www.urbanhoundne.com/wp-content/uploads/2024/03/Screenshot-2024-03-11-at-8.49.47 PM.png
END:VEVENT
BEGIN:VEVENT
DTSTART;TZID=UTC:20240330T150000
DTEND;TZID=UTC:20240330T170000
DTSTAMP:20260426T020458
CREATED:20240303T230712Z
LAST-MODIFIED:20240303T230712Z
UID:1772-1711810800-1711818000@www.urbanhoundne.com
SUMMARY:Small Breeds Meetup
DESCRIPTION:Do you have a pup under 25lbs? Bring them to play with other small pups for this special meetup!
URL:https://www.urbanhoundne.com/event/small-breeds-meetup-2/
LOCATION:Urban Hound Dog Park & Bar\, 4848 Van Dorn Street Suite 1\, Lincoln\, NE\, 68506\, United States
ATTACH;FMTTYPE=image/jpeg:https://www.urbanhoundne.com/wp-content/uploads/2023/09/DSC00100-scaled.jpg
END:VEVENT
BEGIN:VEVENT
DTSTART;TZID=UTC:20240328T183000
DTEND;TZID=UTC:20240328T183000
DTSTAMP:20260426T020458
CREATED:20240214T155324Z
LAST-MODIFIED:20240214T155324Z
UID:1743-1711650600-1711650600@www.urbanhoundne.com
SUMMARY:March Birthday Party
DESCRIPTION:Does your dog have a March birthday\, or do you?! Come together with other dog owners on March 28 to celebrate our loved ones being born in March!
URL:https://www.urbanhoundne.com/event/march-birthday-party/
LOCATION:Urban Hound Dog Park & Bar\, 4848 Van Dorn Street Suite 1\, Lincoln\, NE\, 68506\, United States
ATTACH;FMTTYPE=image/png:https://www.urbanhoundne.com/wp-content/uploads/2024/02/Screenshot-2024-02-14-at-9.51.05 AM.png
END:VEVENT
BEGIN:VEVENT
DTSTART;TZID=UTC:20240326T183000
DTEND;TZID=UTC:20240326T210000
DTSTAMP:20260426T020458
CREATED:20240214T152352Z
LAST-MODIFIED:20240214T152352Z
UID:1731-1711477800-1711486800@www.urbanhoundne.com
SUMMARY:Barks\, Brews\, & Music Bingo
DESCRIPTION:Join us for a tail-wagging good time with the joy of furry friends\, brews\, and a lively game of music bingo with chances to win pawsome prizes!
URL:https://www.urbanhoundne.com/event/barks-brews-music-bingo-11/
LOCATION:Urban Hound Dog Park & Bar\, 4848 Van Dorn Street Suite 1\, Lincoln\, NE\, 68506\, United States
ATTACH;FMTTYPE=image/png:https://www.urbanhoundne.com/wp-content/uploads/2023/09/music-bingo-2.png
END:VEVENT
BEGIN:VEVENT
DTSTART;TZID=UTC:20240321T183000
DTEND;TZID=UTC:20240321T210000
DTSTAMP:20260426T020458
CREATED:20240214T153253Z
LAST-MODIFIED:20240214T153253Z
UID:1735-1711045800-1711054800@www.urbanhoundne.com
SUMMARY:Trivia Night
DESCRIPTION:Bring your furry friends & test your knowledge at Trivia Night! Compete for fantastic prizes while enjoying the company of both two-legged and four-legged friends for a night of fun!
URL:https://www.urbanhoundne.com/event/trivia-night-5/
LOCATION:Urban Hound Dog Park & Bar\, 4848 Van Dorn Street Suite 1\, Lincoln\, NE\, 68506\, United States
ATTACH;FMTTYPE=image/png:https://www.urbanhoundne.com/wp-content/uploads/2023/12/Screenshot-2023-12-22-at-9.13.53 AM.png
END:VEVENT
BEGIN:VEVENT
DTSTART;TZID=UTC:20240317T140000
DTEND;TZID=UTC:20240317T160000
DTSTAMP:20260426T020458
CREATED:20240218T231512Z
LAST-MODIFIED:20240218T231512Z
UID:1747-1710684000-1710691200@www.urbanhoundne.com
SUMMARY:Crafternoon at Urban Hound
DESCRIPTION:Sip & Craft Canine Inspired Art with your Furry Friends! $10 per person\, email urbanhoundne@gmail.com to RSVP!
URL:https://www.urbanhoundne.com/event/crafternoon-at-urban-hound-3/
LOCATION:Urban Hound Dog Park & Bar\, 4848 Van Dorn Street Suite 1\, Lincoln\, NE\, 68506\, United States
ATTACH;FMTTYPE=image/png:https://www.urbanhoundne.com/wp-content/uploads/2024/01/Screenshot-2024-01-21-at-2.26.45 PM.png
END:VEVENT
BEGIN:VEVENT
DTSTART;TZID=UTC:20240316T150000
DTEND;TZID=UTC:20240316T170000
DTSTAMP:20260426T020458
CREATED:20240303T230825Z
LAST-MODIFIED:20240303T230825Z
UID:1774-1710601200-1710608400@www.urbanhoundne.com
SUMMARY:Anything Oodle Breed Meetup
DESCRIPTION:Calling all oodle\, doodle\, poodle breed owners! This special meetup is just for your and your curly hair friends!
URL:https://www.urbanhoundne.com/event/anything-oodle-breed-meetup/
LOCATION:Urban Hound Dog Park & Bar\, 4848 Van Dorn Street Suite 1\, Lincoln\, NE\, 68506\, United States
ATTACH;FMTTYPE=image/jpeg:https://www.urbanhoundne.com/wp-content/uploads/2023/09/DSC00068-scaled.jpg
END:VEVENT
BEGIN:VEVENT
DTSTART;TZID=UTC:20240314T170000
DTEND;TZID=UTC:20240314T200000
DTSTAMP:20260426T020458
CREATED:20240226T162254Z
LAST-MODIFIED:20240226T162254Z
UID:1766-1710435600-1710446400@www.urbanhoundne.com
SUMMARY:Kirk's Works - Caricature Artist
DESCRIPTION:We’re hosting a unique event featuring Kirk’s Works\, a talented Caricature Artist renowned for creating rapid\, delightful sketches of your beloved furry companions!
URL:https://www.urbanhoundne.com/event/kirks-works-caricature-artist-4/
LOCATION:Urban Hound Dog Park & Bar\, 4848 Van Dorn Street Suite 1\, Lincoln\, NE\, 68506\, United States
ATTACH;FMTTYPE=image/jpeg:https://www.urbanhoundne.com/wp-content/uploads/2023/09/IMG_6136-scaled.jpeg
END:VEVENT
BEGIN:VEVENT
DTSTART;TZID=UTC:20240312T183000
DTEND;TZID=UTC:20240312T210000
DTSTAMP:20260426T020458
CREATED:20240214T154459Z
LAST-MODIFIED:20240214T154459Z
UID:1737-1710268200-1710277200@www.urbanhoundne.com
SUMMARY:Barks\, Brews\, & Music Bingo
DESCRIPTION:Join us for a tail-wagging good time with the joy of furry friends\, brews\, and a lively game of music bingo with chances to win pawsome prizes!
URL:https://www.urbanhoundne.com/event/barks-brews-music-bingo-12/
LOCATION:Urban Hound Dog Park & Bar\, 4848 Van Dorn Street Suite 1\, Lincoln\, NE\, 68506\, United States
ATTACH;FMTTYPE=image/png:https://www.urbanhoundne.com/wp-content/uploads/2023/09/music-bingo-2.png
END:VEVENT
BEGIN:VEVENT
DTSTART;TZID=UTC:20240312T173000
DTEND;TZID=UTC:20240312T200000
DTSTAMP:20260426T020458
CREATED:20240224T170753Z
LAST-MODIFIED:20240224T170753Z
UID:1764-1710264600-1710273600@www.urbanhoundne.com
SUMMARY:SoCal Taco Shop at Urban Hound
DESCRIPTION:Indulge in some yummy food from SoCal Taco Shop & Delco Dave’s while at Urban Hound! They will be located inside of our facility\, all guests must be 21+.
URL:https://www.urbanhoundne.com/event/socal-taco-shop-at-urban-hound-5/
LOCATION:Urban Hound Dog Park & Bar\, 4848 Van Dorn Street Suite 1\, Lincoln\, NE\, 68506\, United States
ATTACH;FMTTYPE=image/jpeg:https://www.urbanhoundne.com/wp-content/uploads/2023/07/socal.jpeg
END:VEVENT
BEGIN:VEVENT
DTSTART;TZID=UTC:20240307T183000
DTEND;TZID=UTC:20240307T210000
DTSTAMP:20260426T020458
CREATED:20240214T152509Z
LAST-MODIFIED:20240303T232528Z
UID:1733-1709836200-1709845200@www.urbanhoundne.com
SUMMARY:Trivia Night: Nebraska Theme
DESCRIPTION:Bring your furry friends & test your knowledge at Trivia Night! Compete for fantastic prizes while enjoying the company of both two-legged and four-legged friends for a night of fun!
URL:https://www.urbanhoundne.com/event/trivia-night-4/
LOCATION:Urban Hound Dog Park & Bar\, 4848 Van Dorn Street Suite 1\, Lincoln\, NE\, 68506\, United States
ATTACH;FMTTYPE=image/png:https://www.urbanhoundne.com/wp-content/uploads/2023/12/Screenshot-2023-12-22-at-9.13.53 AM.png
END:VEVENT
BEGIN:VEVENT
DTSTART;TZID=UTC:20240229T183000
DTEND;TZID=UTC:20240229T210000
DTSTAMP:20260426T020458
CREATED:20240214T154953Z
LAST-MODIFIED:20240214T155128Z
UID:1739-1709231400-1709240400@www.urbanhoundne.com
SUMMARY:February Birthday Party
DESCRIPTION:Does your dog have a February birthday\, or do you?! Come together with other dog owners on February 29 to celebrate our loved ones being born in February!
URL:https://www.urbanhoundne.com/event/february-birthday-party/
LOCATION:Urban Hound Dog Park & Bar\, 4848 Van Dorn Street Suite 1\, Lincoln\, NE\, 68506\, United States
ATTACH;FMTTYPE=image/png:https://www.urbanhoundne.com/wp-content/uploads/2024/02/Screenshot-2024-02-14-at-9.51.05 AM.png
END:VEVENT
BEGIN:VEVENT
DTSTART;TZID=UTC:20240227T183000
DTEND;TZID=UTC:20240227T210000
DTSTAMP:20260426T020458
CREATED:20231222T150833Z
LAST-MODIFIED:20240214T152310Z
UID:1633-1709058600-1709067600@www.urbanhoundne.com
SUMMARY:Barks\, Brews\, & Music Bingo
DESCRIPTION:Join us for a tail-wagging good time with the joy of furry friends\, brews\, and a lively game of music bingo with chances to win pawsome prizes!
URL:https://www.urbanhoundne.com/event/barks-brews-music-bingo-10/
LOCATION:Urban Hound Dog Park & Bar\, 4848 Van Dorn Street Suite 1\, Lincoln\, NE\, 68506\, United States
ATTACH;FMTTYPE=image/png:https://www.urbanhoundne.com/wp-content/uploads/2023/09/music-bingo-2.png
END:VEVENT
END:VCALENDAR