BEGIN:VCALENDAR
VERSION:2.0
PRODID:-//Urban Hound Dog Park &amp; Bar - ECPv6.15.20//NONSGML v1.0//EN
CALSCALE:GREGORIAN
METHOD:PUBLISH
X-WR-CALNAME:Urban Hound Dog Park &amp; Bar
X-ORIGINAL-URL:https://www.urbanhoundne.com
X-WR-CALDESC:Events for Urban Hound Dog Park &amp; Bar
REFRESH-INTERVAL;VALUE=DURATION:PT1H
X-Robots-Tag:noindex
X-PUBLISHED-TTL:PT1H
BEGIN:VTIMEZONE
TZID:UTC
BEGIN:STANDARD
TZOFFSETFROM:+0000
TZOFFSETTO:+0000
TZNAME:UTC
DTSTART:20230101T000000
END:STANDARD
END:VTIMEZONE
BEGIN:VEVENT
DTSTART;VALUE=DATE:20240811
DTEND;VALUE=DATE:20240818
DTSTAMP:20260426T013008
CREATED:20240722T204605Z
LAST-MODIFIED:20240722T204605Z
UID:1994-1723334400-1723939199@www.urbanhoundne.com
SUMMARY:Bark to School Donations
DESCRIPTION:We’ve partnered with CEDARS to help children in need of some necessary items! Donate at Urban Hound to receive 50% off 1 day pass or a free drink!
URL:https://www.urbanhoundne.com/event/bark-to-school-donations/
LOCATION:Urban Hound Dog Park & Bar\, 4848 Van Dorn Street Suite 1\, Lincoln\, NE\, 68506\, United States
ATTACH;FMTTYPE=image/png:https://www.urbanhoundne.com/wp-content/uploads/2024/07/bark-to-school-1.png
END:VEVENT
BEGIN:VEVENT
DTSTART;TZID=UTC:20240808T190000
DTEND;TZID=UTC:20240808T200000
DTSTAMP:20260426T013008
CREATED:20240730T175501Z
LAST-MODIFIED:20240730T175501Z
UID:2015-1723143600-1723147200@www.urbanhoundne.com
SUMMARY:Trivia Night
DESCRIPTION:Bring your furry friends & test your knowledge at Trivia Night! Compete for fantastic prizes while enjoying the company of both two-legged and four-legged friends for a night of fun!
URL:https://www.urbanhoundne.com/event/trivia-night-11/
LOCATION:Urban Hound Dog Park & Bar\, 4848 Van Dorn Street Suite 1\, Lincoln\, NE\, 68506\, United States
ATTACH;FMTTYPE=image/png:https://www.urbanhoundne.com/wp-content/uploads/2023/12/Screenshot-2023-12-22-at-9.13.53 AM.png
END:VEVENT
BEGIN:VEVENT
DTSTART;TZID=UTC:20240730T190000
DTEND;TZID=UTC:20240730T210000
DTSTAMP:20260426T013008
CREATED:20240619T163507Z
LAST-MODIFIED:20240619T163507Z
UID:1950-1722366000-1722373200@www.urbanhoundne.com
SUMMARY:Barks\, Brews\, & Music Bingo
DESCRIPTION:Join us for a tail-wagging good time with the joy of furry friends\, brews\, and a lively game of music bingo with chances to win pawsome prizes!
URL:https://www.urbanhoundne.com/event/barks-brews-music-bingo-18/
LOCATION:Urban Hound Dog Park & Bar\, 4848 Van Dorn Street Suite 1\, Lincoln\, NE\, 68506\, United States
ATTACH;FMTTYPE=image/png:https://www.urbanhoundne.com/wp-content/uploads/2023/09/music-bingo-2.png
END:VEVENT
BEGIN:VEVENT
DTSTART;TZID=UTC:20240725T190000
DTEND;TZID=UTC:20240725T210000
DTSTAMP:20260426T013008
CREATED:20240619T163033Z
LAST-MODIFIED:20240619T163033Z
UID:1946-1721934000-1721941200@www.urbanhoundne.com
SUMMARY:Trivia Night
DESCRIPTION:Bring your furry friends & test your knowledge at Trivia Night! Compete for fantastic prizes while enjoying the company of both two-legged and four-legged friends for a night of fun!
URL:https://www.urbanhoundne.com/event/trivia-night-10/
LOCATION:Urban Hound Dog Park & Bar\, 4848 Van Dorn Street Suite 1\, Lincoln\, NE\, 68506\, United States
ATTACH;FMTTYPE=image/png:https://www.urbanhoundne.com/wp-content/uploads/2023/12/Screenshot-2023-12-22-at-9.13.53 AM.png
END:VEVENT
BEGIN:VEVENT
DTSTART;TZID=UTC:20240718T183000
DTEND;TZID=UTC:20240718T210000
DTSTAMP:20260426T013008
CREATED:20240617T160727Z
LAST-MODIFIED:20240619T163558Z
UID:1937-1721327400-1721336400@www.urbanhoundne.com
SUMMARY:July Birthday Party
DESCRIPTION:Does your dog have a July birthday\, or do you?! Come together with other dog owners on July 18 to celebrate our loved ones being born in July!
URL:https://www.urbanhoundne.com/event/july-birthday-party/
LOCATION:Urban Hound Dog Park & Bar\, 4848 Van Dorn Street Suite 1\, Lincoln\, NE\, 68506\, United States
ATTACH;FMTTYPE=image/png:https://www.urbanhoundne.com/wp-content/uploads/2024/02/Screenshot-2024-02-14-at-9.51.05 AM.png
END:VEVENT
BEGIN:VEVENT
DTSTART;TZID=UTC:20240716T190000
DTEND;TZID=UTC:20240716T210000
DTSTAMP:20260426T013008
CREATED:20240619T163529Z
LAST-MODIFIED:20240619T163529Z
UID:1949-1721156400-1721163600@www.urbanhoundne.com
SUMMARY:Barks\, Brews\, & Music Bingo
DESCRIPTION:Join us for a tail-wagging good time with the joy of furry friends\, brews\, and a lively game of music bingo with chances to win pawsome prizes!
URL:https://www.urbanhoundne.com/event/barks-brews-music-bingo-19/
LOCATION:Urban Hound Dog Park & Bar\, 4848 Van Dorn Street Suite 1\, Lincoln\, NE\, 68506\, United States
ATTACH;FMTTYPE=image/png:https://www.urbanhoundne.com/wp-content/uploads/2023/09/music-bingo-2.png
END:VEVENT
BEGIN:VEVENT
DTSTART;TZID=UTC:20240712T190000
DTEND;TZID=UTC:20240712T210000
DTSTAMP:20260426T013008
CREATED:20240622T140528Z
LAST-MODIFIED:20240712T003236Z
UID:1954-1720810800-1720818000@www.urbanhoundne.com
SUMMARY:CANCELLED: Sips\, Sing Alongs & Serenades
DESCRIPTION:This event has unfortunately been cancelled. Bar is still open for normal hours 3-10pm!
URL:https://www.urbanhoundne.com/event/sips-sing-alongs-serenades/
LOCATION:Urban Hound Dog Park & Bar\, 4848 Van Dorn Street Suite 1\, Lincoln\, NE\, 68506\, United States
ATTACH;FMTTYPE=image/png:https://www.urbanhoundne.com/wp-content/uploads/2024/04/facebook-event-cover-size-39.png
END:VEVENT
BEGIN:VEVENT
DTSTART;TZID=UTC:20240711T190000
DTEND;TZID=UTC:20240711T210000
DTSTAMP:20260426T013008
CREATED:20240619T162949Z
LAST-MODIFIED:20240619T162949Z
UID:1945-1720724400-1720731600@www.urbanhoundne.com
SUMMARY:Trivia Night
DESCRIPTION:Bring your furry friends & test your knowledge at Trivia Night! Compete for fantastic prizes while enjoying the company of both two-legged and four-legged friends for a night of fun!
URL:https://www.urbanhoundne.com/event/trivia-night-9/
LOCATION:Urban Hound Dog Park & Bar\, 4848 Van Dorn Street Suite 1\, Lincoln\, NE\, 68506\, United States
ATTACH;FMTTYPE=image/png:https://www.urbanhoundne.com/wp-content/uploads/2023/12/Screenshot-2023-12-22-at-9.13.53 AM.png
END:VEVENT
BEGIN:VEVENT
DTSTART;VALUE=DATE:20240704
DTEND;VALUE=DATE:20240705
DTSTAMP:20260426T013008
CREATED:20240603T142207Z
LAST-MODIFIED:20240603T142207Z
UID:1931-1720051200-1720137599@www.urbanhoundne.com
SUMMARY:Closed for Independence Day
DESCRIPTION:We will be closed in observance of Independence Day. Keeps those pups safe at home!
URL:https://www.urbanhoundne.com/event/closed-for-independence-day/
LOCATION:Urban Hound Dog Park & Bar\, 4848 Van Dorn Street Suite 1\, Lincoln\, NE\, 68506\, United States
ATTACH;FMTTYPE=image/png:https://www.urbanhoundne.com/wp-content/uploads/2023/06/dog-bless-fbook-1.png
END:VEVENT
BEGIN:VEVENT
DTSTART;TZID=UTC:20240630T160000
DTEND;TZID=UTC:20240630T190000
DTSTAMP:20260426T013008
CREATED:20240530T010557Z
LAST-MODIFIED:20240603T141501Z
UID:1926-1719763200-1719774000@www.urbanhoundne.com
SUMMARY:Dog Bless America - 4th of July Costume Parade
DESCRIPTION:Join us for a parade of your dogs best Red\, White and Blue for our Dog Bless America Event!
URL:https://www.urbanhoundne.com/event/4th-of-july-costume-parade/
LOCATION:Urban Hound Dog Park & Bar\, 4848 Van Dorn Street Suite 1\, Lincoln\, NE\, 68506\, United States
END:VEVENT
BEGIN:VEVENT
DTSTART;TZID=UTC:20240629T150000
DTEND;TZID=UTC:20240629T170000
DTSTAMP:20260426T013008
CREATED:20240526T013408Z
LAST-MODIFIED:20240526T013408Z
UID:1917-1719673200-1719680400@www.urbanhoundne.com
SUMMARY:Dogs with Human Names Meetup
DESCRIPTION:Does your dog have a human name? Join other owners and dogs alike for this fun Human Name meetup!
URL:https://www.urbanhoundne.com/event/dogs-with-human-names-meetup-2/
LOCATION:Urban Hound Dog Park & Bar\, 4848 Van Dorn Street Suite 1\, Lincoln\, NE\, 68506\, United States
ATTACH;FMTTYPE=image/jpeg:https://www.urbanhoundne.com/wp-content/uploads/2023/07/EA3DF5F9-417F-4D6D-98C4-3ED8CBD8C535_L0_001-6_14_2023-11_06_22-AM-scaled.jpg
END:VEVENT
BEGIN:VEVENT
DTSTART;TZID=UTC:20240627T183000
DTEND;TZID=UTC:20240627T210000
DTSTAMP:20260426T013008
CREATED:20240530T010907Z
LAST-MODIFIED:20240530T012642Z
UID:1928-1719513000-1719522000@www.urbanhoundne.com
SUMMARY:June Birthday Party
DESCRIPTION:Does your dog have a June birthday\, or do you?! Come together with other dog owners on June 27 to celebrate our loved ones being born in June!
URL:https://www.urbanhoundne.com/event/june-birthday-party/
LOCATION:Urban Hound Dog Park & Bar\, 4848 Van Dorn Street Suite 1\, Lincoln\, NE\, 68506\, United States
ATTACH;FMTTYPE=image/png:https://www.urbanhoundne.com/wp-content/uploads/2024/02/Screenshot-2024-02-14-at-9.51.05 AM.png
END:VEVENT
BEGIN:VEVENT
DTSTART;TZID=UTC:20240623T140000
DTEND;TZID=UTC:20240623T160000
DTSTAMP:20260426T013008
CREATED:20240514T141344Z
LAST-MODIFIED:20240514T141344Z
UID:1889-1719151200-1719158400@www.urbanhoundne.com
SUMMARY:Crafternoon at Urban Hound
DESCRIPTION:Sip & Craft Canine Inspired Art with your Furry Friends! $10 per person\, email urbanhoundne@gmail.com to RSVP!
URL:https://www.urbanhoundne.com/event/crafternoon-at-urban-hound-6/
LOCATION:Urban Hound Dog Park & Bar\, 4848 Van Dorn Street Suite 1\, Lincoln\, NE\, 68506\, United States
ATTACH;FMTTYPE=image/png:https://www.urbanhoundne.com/wp-content/uploads/2024/01/Screenshot-2024-01-21-at-2.26.45 PM.png
END:VEVENT
BEGIN:VEVENT
DTSTART;TZID=UTC:20240618T190000
DTEND;TZID=UTC:20240618T210000
DTSTAMP:20260426T013008
CREATED:20240515T152044Z
LAST-MODIFIED:20240515T152044Z
UID:1896-1718737200-1718744400@www.urbanhoundne.com
SUMMARY:Barks\, Brews\, & Music Bingo
DESCRIPTION:Join us for a tail-wagging good time with the joy of furry friends\, brews\, and a lively game of music bingo with chances to win pawsome prizes!
URL:https://www.urbanhoundne.com/event/barks-brews-music-bingo-17/
LOCATION:Urban Hound Dog Park & Bar\, 4848 Van Dorn Street Suite 1\, Lincoln\, NE\, 68506\, United States
ATTACH;FMTTYPE=image/png:https://www.urbanhoundne.com/wp-content/uploads/2023/09/music-bingo-2.png
END:VEVENT
BEGIN:VEVENT
DTSTART;TZID=UTC:20240616T120000
DTEND;TZID=UTC:20240616T200000
DTSTAMP:20260426T013008
CREATED:20240414T001526Z
LAST-MODIFIED:20240414T001632Z
UID:1871-1718539200-1718568000@www.urbanhoundne.com
SUMMARY:Father's Day: Bloody Mary Bar
DESCRIPTION:Calling all dog and human Dads! Come celebrate with us with a special Bloody Mary Bar all day!
URL:https://www.urbanhoundne.com/event/fathers-day-bloody-mary-bar/
LOCATION:Urban Hound Dog Park & Bar\, 4848 Van Dorn Street Suite 1\, Lincoln\, NE\, 68506\, United States
ATTACH;FMTTYPE=image/png:https://www.urbanhoundne.com/wp-content/uploads/2024/04/Screenshot-2024-04-13-at-7.12.50 PM.png
END:VEVENT
BEGIN:VEVENT
DTSTART;TZID=UTC:20240615T150000
DTEND;TZID=UTC:20240615T170000
DTSTAMP:20260426T013008
CREATED:20240526T013225Z
LAST-MODIFIED:20240526T013225Z
UID:1914-1718463600-1718470800@www.urbanhoundne.com
SUMMARY:Retriever Meetup
DESCRIPTION:Join us for a Retriever breed meetup at Urban Hound!
URL:https://www.urbanhoundne.com/event/retriever-meetup-2/
LOCATION:Urban Hound Dog Park & Bar\, 4848 Van Dorn Street Suite 1\, Lincoln\, NE\, 68506\, United States
ATTACH;FMTTYPE=image/jpeg:https://www.urbanhoundne.com/wp-content/uploads/2023/09/DSC00211-scaled.jpg
END:VEVENT
BEGIN:VEVENT
DTSTART;TZID=UTC:20240613T190000
DTEND;TZID=UTC:20240613T210000
DTSTAMP:20260426T013008
CREATED:20240530T010255Z
LAST-MODIFIED:20240530T010255Z
UID:1922-1718305200-1718312400@www.urbanhoundne.com
SUMMARY:Taylor Swift Trivia Night
DESCRIPTION:Calling all Swiftie’s! Join us for Taylor Swift themed trivia night!
URL:https://www.urbanhoundne.com/event/taylor-swift-trivia-night/
LOCATION:Urban Hound Dog Park & Bar\, 4848 Van Dorn Street Suite 1\, Lincoln\, NE\, 68506\, United States
END:VEVENT
BEGIN:VEVENT
DTSTART;TZID=UTC:20240609T170000
DTEND;TZID=UTC:20240609T190000
DTSTAMP:20260426T013008
CREATED:20240603T150221Z
LAST-MODIFIED:20240603T150221Z
UID:1933-1717952400-1717959600@www.urbanhoundne.com
SUMMARY:Seltzers & Serenades by Anna Christy
DESCRIPTION:Join us for live music featuring Urban Hound’s own\, Anna Christy! Bring a furry or human friend and enjoy a beverage of choice with live music!
URL:https://www.urbanhoundne.com/event/seltzers-serenades-by-anna-christy/
LOCATION:Urban Hound Dog Park & Bar\, 4848 Van Dorn Street Suite 1\, Lincoln\, NE\, 68506\, United States
END:VEVENT
BEGIN:VEVENT
DTSTART;TZID=UTC:20240604T190000
DTEND;TZID=UTC:20240604T210000
DTSTAMP:20260426T013008
CREATED:20240515T151951Z
LAST-MODIFIED:20240515T151951Z
UID:1894-1717527600-1717534800@www.urbanhoundne.com
SUMMARY:Barks\, Brews\, & Music Bingo
DESCRIPTION:Join us for a tail-wagging good time with the joy of furry friends\, brews\, and a lively game of music bingo with chances to win pawsome prizes!
URL:https://www.urbanhoundne.com/event/barks-brews-music-bingo-16/
LOCATION:Urban Hound Dog Park & Bar\, 4848 Van Dorn Street Suite 1\, Lincoln\, NE\, 68506\, United States
ATTACH;FMTTYPE=image/png:https://www.urbanhoundne.com/wp-content/uploads/2023/09/music-bingo-2.png
END:VEVENT
BEGIN:VEVENT
DTSTART;TZID=UTC:20240602T170000
DTEND;TZID=UTC:20240602T200000
DTSTAMP:20260426T013008
CREATED:20240524T182224Z
LAST-MODIFIED:20240524T182224Z
UID:1911-1717347600-1717358400@www.urbanhoundne.com
SUMMARY:ChiStyle Kitchen Food Truck
DESCRIPTION:Come visit us at Urban Hound Dog Park & Bar to indulge in ChiStyle Kitchens yummy Chicago style food for our 1 Year Anniversary Weekend!
URL:https://www.urbanhoundne.com/event/chistyle-kitchen-food-truck/
LOCATION:Urban Hound Dog Park & Bar\, 4848 Van Dorn Street Suite 1\, Lincoln\, NE\, 68506\, United States
ATTACH;FMTTYPE=image/png:https://www.urbanhoundne.com/wp-content/uploads/2024/05/image-6.png
END:VEVENT
BEGIN:VEVENT
DTSTART;TZID=UTC:20240602T150000
DTEND;TZID=UTC:20240602T190000
DTSTAMP:20260426T013008
CREATED:20240514T153153Z
LAST-MODIFIED:20240514T153153Z
UID:1891-1717340400-1717354800@www.urbanhoundne.com
SUMMARY:Kirk's Works - Caricature Artist
DESCRIPTION:We’re hosting a unique event featuring Kirk’s Works\, a talented Caricature Artist renowned for creating rapid\, delightful sketches of your beloved furry companions!
URL:https://www.urbanhoundne.com/event/kirks-works-caricature-artist-5/
LOCATION:Urban Hound Dog Park & Bar\, 4848 Van Dorn Street Suite 1\, Lincoln\, NE\, 68506\, United States
ATTACH;FMTTYPE=image/jpeg:https://www.urbanhoundne.com/wp-content/uploads/2023/09/IMG_6136-scaled.jpeg
END:VEVENT
BEGIN:VEVENT
DTSTART;TZID=UTC:20240602T130000
DTEND;TZID=UTC:20240602T150000
DTSTAMP:20260426T013008
CREATED:20240522T154958Z
LAST-MODIFIED:20240522T154958Z
UID:1907-1717333200-1717340400@www.urbanhoundne.com
SUMMARY:Small Breeds Meetup
DESCRIPTION:Do you have a pup under 25lbs? Bring them to play with other small pups for this special meetup!
URL:https://www.urbanhoundne.com/event/small-breeds-meetup-3/
LOCATION:Urban Hound Dog Park & Bar\, 4848 Van Dorn Street Suite 1\, Lincoln\, NE\, 68506\, United States
ATTACH;FMTTYPE=image/png:https://www.urbanhoundne.com/wp-content/uploads/2023/08/image-3.png
END:VEVENT
BEGIN:VEVENT
DTSTART;TZID=UTC:20240601T170000
DTEND;TZID=UTC:20240601T200000
DTSTAMP:20260426T013008
CREATED:20240522T154735Z
LAST-MODIFIED:20240522T154803Z
UID:1904-1717261200-1717272000@www.urbanhoundne.com
SUMMARY:RedLinc BBQ Truck
DESCRIPTION:Bring your pups\, grab some yummy food from RedLinc BBQ and head on in to Urban Hound!
URL:https://www.urbanhoundne.com/event/redlinc-bbq-truck/
LOCATION:Urban Hound Dog Park & Bar\, 4848 Van Dorn Street Suite 1\, Lincoln\, NE\, 68506\, United States
ATTACH;FMTTYPE=image/png:https://www.urbanhoundne.com/wp-content/uploads/2024/04/nachos.png
END:VEVENT
BEGIN:VEVENT
DTSTART;TZID=UTC:20240601T150000
DTEND;TZID=UTC:20240601T170000
DTSTAMP:20260426T013008
CREATED:20240522T155944Z
LAST-MODIFIED:20240601T132434Z
UID:1909-1717254000-1717261200@www.urbanhoundne.com
SUMMARY:Doodle Breed Meetup
DESCRIPTION:Calling all oodle\, doodle\, poodle breed owners! This special meetup is just for your and your curly hair friend!
URL:https://www.urbanhoundne.com/event/doodle-breed-meetup-3/
LOCATION:Urban Hound Dog Park & Bar\, 4848 Van Dorn Street Suite 1\, Lincoln\, NE\, 68506\, United States
ATTACH;FMTTYPE=image/jpeg:https://www.urbanhoundne.com/wp-content/uploads/2023/08/DSC00068-scaled.jpg
END:VEVENT
BEGIN:VEVENT
DTSTART;TZID=UTC:20240601T130000
DTEND;TZID=UTC:20240601T150000
DTSTAMP:20260426T013008
CREATED:20240530T010417Z
LAST-MODIFIED:20240530T010417Z
UID:1924-1717246800-1717254000@www.urbanhoundne.com
SUMMARY:LINK X LOU Popup
DESCRIPTION:Join us for a Permanent Jewelry popup hosted by LINK X LOU!
URL:https://www.urbanhoundne.com/event/link-x-lou-popup/
LOCATION:Urban Hound Dog Park & Bar\, 4848 Van Dorn Street Suite 1\, Lincoln\, NE\, 68506\, United States
END:VEVENT
BEGIN:VEVENT
DTSTART;VALUE=DATE:20240601
DTEND;VALUE=DATE:20240603
DTSTAMP:20260426T013008
CREATED:20240223T150639Z
LAST-MODIFIED:20240312T015832Z
UID:1752-1717200000-1717372799@www.urbanhoundne.com
SUMMARY:Urban Hounds 1st Birthday Party Celebration!
DESCRIPTION:Join us as we celebrate Urban Hound turning 1! We will have vendors\, food trucks\, specials and more all weekend long! Come celebrate with us and officially kick-off summer!
URL:https://www.urbanhoundne.com/event/urban-hounds-1st-birthday-party-celebration/
LOCATION:Urban Hound Dog Park & Bar\, 4848 Van Dorn Street Suite 1\, Lincoln\, NE\, 68506\, United States
ATTACH;FMTTYPE=image/png:https://www.urbanhoundne.com/wp-content/uploads/2024/02/Screenshot-2024-02-14-at-9.51.05 AM.png
END:VEVENT
BEGIN:VEVENT
DTSTART;TZID=UTC:20240525T110000
DTEND;TZID=UTC:20240525T120000
DTSTAMP:20260426T013008
CREATED:20240414T000949Z
LAST-MODIFIED:20240414T000949Z
UID:1867-1716634800-1716638400@www.urbanhoundne.com
SUMMARY:Senior/Shy Dog Meetup
DESCRIPTION:Do you have a senior dog or a shy pup? Bring them for this special meetup to help get them socialized or play with others alike!
URL:https://www.urbanhoundne.com/event/senior-shy-dog-meetup-3/
LOCATION:Urban Hound Dog Park & Bar\, 4848 Van Dorn Street Suite 1\, Lincoln\, NE\, 68506\, United States
ATTACH;FMTTYPE=image/jpeg:https://www.urbanhoundne.com/wp-content/uploads/2023/08/FDC3A254-B06E-47CB-B3DC-678D7DAF895C_1_105_c.jpeg
END:VEVENT
BEGIN:VEVENT
DTSTART;TZID=UTC:20240524T190000
DTEND;TZID=UTC:20240524T210000
DTSTAMP:20260426T013008
CREATED:20240414T000652Z
LAST-MODIFIED:20240414T000839Z
UID:1861-1716577200-1716584400@www.urbanhoundne.com
SUMMARY:Karaoke Night
DESCRIPTION:Let’s serenade our furry and human friends for a fun night out at Urban Hound’s Karaoke Night!!
URL:https://www.urbanhoundne.com/event/karaoke-night-2/
LOCATION:Urban Hound Dog Park & Bar\, 4848 Van Dorn Street Suite 1\, Lincoln\, NE\, 68506\, United States
ATTACH;FMTTYPE=image/png:https://www.urbanhoundne.com/wp-content/uploads/2024/04/facebook-event-cover-size-39.png
END:VEVENT
BEGIN:VEVENT
DTSTART;TZID=UTC:20240524T180000
DTEND;TZID=UTC:20240524T210000
DTSTAMP:20260426T013008
CREATED:20240420T000248Z
LAST-MODIFIED:20240506T140651Z
UID:1878-1716573600-1716584400@www.urbanhoundne.com
SUMMARY:SoCal Tacos & Delco Daves Steaks
DESCRIPTION:
URL:https://www.urbanhoundne.com/event/socal-tacos-delco-daves-steaks/
LOCATION:Urban Hound Dog Park & Bar\, 4848 Van Dorn Street Suite 1\, Lincoln\, NE\, 68506\, United States
ATTACH;FMTTYPE=image/png:https://www.urbanhoundne.com/wp-content/uploads/2023/11/Screenshot-2023-11-20-at-12.30.13 PM.png
END:VEVENT
BEGIN:VEVENT
DTSTART;TZID=UTC:20240523T180000
DTEND;TZID=UTC:20240523T210000
DTSTAMP:20260426T013008
CREATED:20240522T154352Z
LAST-MODIFIED:20240522T154352Z
UID:1902-1716487200-1716498000@www.urbanhoundne.com
SUMMARY:May Birthday Party
DESCRIPTION:Does your dog have a May birthday\, or do you?! Come together with other dog owners on May 23  to celebrate our loved ones being born in May!
URL:https://www.urbanhoundne.com/event/may-birthday-party/
LOCATION:Urban Hound Dog Park & Bar\, 4848 Van Dorn Street Suite 1\, Lincoln\, NE\, 68506\, United States
ATTACH;FMTTYPE=image/png:https://www.urbanhoundne.com/wp-content/uploads/2024/02/Screenshot-2024-02-14-at-9.51.05 AM.png
END:VEVENT
END:VCALENDAR