BEGIN:VCALENDAR
VERSION:2.0
PRODID:-//Urban Hound Dog Park &amp; Bar - ECPv6.15.20//NONSGML v1.0//EN
CALSCALE:GREGORIAN
METHOD:PUBLISH
X-WR-CALNAME:Urban Hound Dog Park &amp; Bar
X-ORIGINAL-URL:https://www.urbanhoundne.com
X-WR-CALDESC:Events for Urban Hound Dog Park &amp; Bar
REFRESH-INTERVAL;VALUE=DURATION:PT1H
X-Robots-Tag:noindex
X-PUBLISHED-TTL:PT1H
BEGIN:VTIMEZONE
TZID:UTC
BEGIN:STANDARD
TZOFFSETFROM:+0000
TZOFFSETTO:+0000
TZNAME:UTC
DTSTART:20230101T000000
END:STANDARD
END:VTIMEZONE
BEGIN:VEVENT
DTSTART;VALUE=DATE:20241002
DTEND;VALUE=DATE:20241003
DTSTAMP:20260425T233828
CREATED:20240712T003512Z
LAST-MODIFIED:20240718T222147Z
UID:1959-1727827200-1727913599@www.urbanhoundne.com
SUMMARY:October Movie Series
DESCRIPTION:Join us for October movie nights! We’ll be showing the movie outdoors & indoors. Don’t forget to bring your furry friends\, and we’ll supply the popcorn!
URL:https://www.urbanhoundne.com/event/october-movie-series/
LOCATION:Urban Hound Dog Park & Bar\, 4848 Van Dorn Street Suite 1\, Lincoln\, NE\, 68506\, United States
ATTACH;FMTTYPE=image/png:https://www.urbanhoundne.com/wp-content/uploads/2024/07/fall-movie-series.png
END:VEVENT
BEGIN:VEVENT
DTSTART;TZID=UTC:20240927T180000
DTEND;TZID=UTC:20240927T210000
DTSTAMP:20260425T233828
CREATED:20240712T153541Z
LAST-MODIFIED:20240822T011556Z
UID:1979-1727460000-1727470800@www.urbanhoundne.com
SUMMARY:TAILgate Party
DESCRIPTION:Join us for a pregame TAILgate at Urban Hound with drinks\, food\, and of your course YOUR PUPS!
URL:https://www.urbanhoundne.com/event/tailgate-party-5/
LOCATION:Urban Hound Dog Park & Bar\, 4848 Van Dorn Street Suite 1\, Lincoln\, NE\, 68506\, United States
ATTACH;FMTTYPE=image/png:https://www.urbanhoundne.com/wp-content/uploads/2024/07/TV-Ads-15.png
END:VEVENT
BEGIN:VEVENT
DTSTART;TZID=UTC:20240924T190000
DTEND;TZID=UTC:20240924T210000
DTSTAMP:20260425T233828
CREATED:20240822T011543Z
LAST-MODIFIED:20240822T011543Z
UID:2032-1727204400-1727211600@www.urbanhoundne.com
SUMMARY:Trivia Night
DESCRIPTION:Bring your furry friends & test your knowledge at Trivia Night! Compete for fantastic prizes while enjoying the company of both two-legged and four-legged friends for a night of fun!
URL:https://www.urbanhoundne.com/event/trivia-night-14/
LOCATION:Urban Hound Dog Park & Bar\, 4848 Van Dorn Street Suite 1\, Lincoln\, NE\, 68506\, United States
ATTACH;FMTTYPE=image/png:https://www.urbanhoundne.com/wp-content/uploads/2023/12/Screenshot-2023-12-22-at-9.13.53 AM.png
END:VEVENT
BEGIN:VEVENT
DTSTART;TZID=UTC:20240921T150000
DTEND;TZID=UTC:20240921T170000
DTSTAMP:20260425T233828
CREATED:20240909T155855Z
LAST-MODIFIED:20240909T155855Z
UID:2041-1726930800-1726938000@www.urbanhoundne.com
SUMMARY:Singles Mixer
DESCRIPTION:Are you single\, love dogs\, and ready to mingle? Join singles like yourself for a mixer! Event does not cost unless you bring your dog- standard day pass rates apply. No dog required to participate! 21+ event.
URL:https://www.urbanhoundne.com/event/singles-mixer/
LOCATION:Urban Hound Dog Park & Bar\, 4848 Van Dorn Street Suite 1\, Lincoln\, NE\, 68506\, United States
ATTACH;FMTTYPE=image/jpeg:https://www.urbanhoundne.com/wp-content/uploads/2024/09/singles.jpg
END:VEVENT
BEGIN:VEVENT
DTSTART;TZID=UTC:20240919T180000
DTEND;TZID=UTC:20240919T210000
DTSTAMP:20260425T233828
CREATED:20240712T153524Z
LAST-MODIFIED:20240822T011554Z
UID:1978-1726768800-1726779600@www.urbanhoundne.com
SUMMARY:TAILgate Party
DESCRIPTION:Join us for a pregame TAILgate at Urban Hound with drinks\, food\, and of your course YOUR PUPS!
URL:https://www.urbanhoundne.com/event/tailgate-party-4/
LOCATION:Urban Hound Dog Park & Bar\, 4848 Van Dorn Street Suite 1\, Lincoln\, NE\, 68506\, United States
ATTACH;FMTTYPE=image/png:https://www.urbanhoundne.com/wp-content/uploads/2024/07/TV-Ads-15.png
END:VEVENT
BEGIN:VEVENT
DTSTART;TZID=UTC:20240915T140000
DTEND;TZID=UTC:20240915T160000
DTSTAMP:20260425T233828
CREATED:20240730T175942Z
LAST-MODIFIED:20240819T170521Z
UID:2021-1726408800-1726416000@www.urbanhoundne.com
SUMMARY:Crafternoon at Urban Hound
DESCRIPTION:Creating Customized Stepping Stones – Bring anything you want to put in it. Will do paw prints and also have other embellishments to use. $15 per person. RSVP before hand!
URL:https://www.urbanhoundne.com/event/crafternoon-at-urban-hound-7/
LOCATION:Urban Hound Dog Park & Bar\, 4848 Van Dorn Street Suite 1\, Lincoln\, NE\, 68506\, United States
ATTACH;FMTTYPE=image/png:https://www.urbanhoundne.com/wp-content/uploads/2024/01/Screenshot-2024-01-21-at-2.26.45 PM.png
END:VEVENT
BEGIN:VEVENT
DTSTART;TZID=UTC:20240913T180000
DTEND;TZID=UTC:20240913T210000
DTSTAMP:20260425T233828
CREATED:20240712T153514Z
LAST-MODIFIED:20240822T011602Z
UID:1977-1726250400-1726261200@www.urbanhoundne.com
SUMMARY:TAILgate Party
DESCRIPTION:Join us for a pregame TAILgate at Urban Hound with drinks\, food\, and of your course YOUR PUPS!
URL:https://www.urbanhoundne.com/event/tailgate-party-3/
LOCATION:Urban Hound Dog Park & Bar\, 4848 Van Dorn Street Suite 1\, Lincoln\, NE\, 68506\, United States
ATTACH;FMTTYPE=image/png:https://www.urbanhoundne.com/wp-content/uploads/2024/07/TV-Ads-15.png
END:VEVENT
BEGIN:VEVENT
DTSTART;TZID=UTC:20240910T190000
DTEND;TZID=UTC:20240910T210000
DTSTAMP:20260425T233828
CREATED:20240822T011400Z
LAST-MODIFIED:20240822T011400Z
UID:2029-1725994800-1726002000@www.urbanhoundne.com
SUMMARY:Trivia Night
DESCRIPTION:Bring your furry friends & test your knowledge at Trivia Night! Compete for fantastic prizes while enjoying the company of both two-legged and four-legged friends for a night of fun!
URL:https://www.urbanhoundne.com/event/trivia-night-13/
LOCATION:Urban Hound Dog Park & Bar\, 4848 Van Dorn Street Suite 1\, Lincoln\, NE\, 68506\, United States
ATTACH;FMTTYPE=image/png:https://www.urbanhoundne.com/wp-content/uploads/2023/12/Screenshot-2023-12-22-at-9.13.53 AM.png
END:VEVENT
BEGIN:VEVENT
DTSTART;TZID=UTC:20240906T180000
DTEND;TZID=UTC:20240906T210000
DTSTAMP:20260425T233828
CREATED:20240712T153502Z
LAST-MODIFIED:20240822T011609Z
UID:1976-1725645600-1725656400@www.urbanhoundne.com
SUMMARY:TAILgate Party
DESCRIPTION:Join us for a pregame TAILgate at Urban Hound with drinks\, food\, and of your course YOUR PUPS!
URL:https://www.urbanhoundne.com/event/tailgate-party-2/
LOCATION:Urban Hound Dog Park & Bar\, 4848 Van Dorn Street Suite 1\, Lincoln\, NE\, 68506\, United States
ATTACH;FMTTYPE=image/png:https://www.urbanhoundne.com/wp-content/uploads/2024/07/TV-Ads-15.png
END:VEVENT
BEGIN:VEVENT
DTSTART;VALUE=DATE:20240902
DTEND;VALUE=DATE:20240903
DTSTAMP:20260425T233828
CREATED:20240628T212948Z
LAST-MODIFIED:20240628T213050Z
UID:1956-1725235200-1725321599@www.urbanhoundne.com
SUMMARY:Closed for Labor Day
DESCRIPTION:Urban Hound will be closed in observance of Labor Day. No Daycare or Bar services.
URL:https://www.urbanhoundne.com/event/closed-for-labor-day/
LOCATION:Urban Hound Dog Park & Bar\, 4848 Van Dorn Street Suite 1\, Lincoln\, NE\, 68506\, United States
END:VEVENT
BEGIN:VEVENT
DTSTART;TZID=UTC:20240830T180000
DTEND;TZID=UTC:20240830T210000
DTSTAMP:20260425T233828
CREATED:20240712T152204Z
LAST-MODIFIED:20240822T011658Z
UID:1974-1725040800-1725051600@www.urbanhoundne.com
SUMMARY:TAILgate Party
DESCRIPTION:Join us for a pregame TAILgate at Urban Hound with drinks\, food\, and of your course YOUR PUPS!
URL:https://www.urbanhoundne.com/event/tailgate-party/
LOCATION:Urban Hound Dog Park & Bar\, 4848 Van Dorn Street Suite 1\, Lincoln\, NE\, 68506\, United States
ATTACH;FMTTYPE=image/png:https://www.urbanhoundne.com/wp-content/uploads/2024/07/TV-Ads-15.png
END:VEVENT
BEGIN:VEVENT
DTSTART;TZID=UTC:20240824T160000
DTEND;TZID=UTC:20240824T220000
DTSTAMP:20260425T233828
CREATED:20240522T152505Z
LAST-MODIFIED:20240603T203752Z
UID:1899-1724515200-1724536800@www.urbanhoundne.com
SUMMARY:Closing Early for Private Event
DESCRIPTION:Urban Hound will be closing at 5pm for a private event. Sorry for any inconveniences this may cause!
URL:https://www.urbanhoundne.com/event/closing-early-for-private-event/
LOCATION:Urban Hound Dog Park & Bar\, 4848 Van Dorn Street Suite 1\, Lincoln\, NE\, 68506\, United States
END:VEVENT
BEGIN:VEVENT
DTSTART;TZID=UTC:20240822T190000
DTEND;TZID=UTC:20240822T200000
DTSTAMP:20260425T233828
CREATED:20240730T175608Z
LAST-MODIFIED:20240730T175608Z
UID:2017-1724353200-1724356800@www.urbanhoundne.com
SUMMARY:Trivia Night
DESCRIPTION:Bring your furry friends & test your knowledge at Trivia Night! Compete for fantastic prizes while enjoying the company of both two-legged and four-legged friends for a night of fun!
URL:https://www.urbanhoundne.com/event/trivia-night-12/
LOCATION:Urban Hound Dog Park & Bar\, 4848 Van Dorn Street Suite 1\, Lincoln\, NE\, 68506\, United States
ATTACH;FMTTYPE=image/png:https://www.urbanhoundne.com/wp-content/uploads/2023/12/Screenshot-2023-12-22-at-9.13.53 AM.png
END:VEVENT
BEGIN:VEVENT
DTSTART;TZID=UTC:20240822T183000
DTEND;TZID=UTC:20240822T210000
DTSTAMP:20260425T233828
CREATED:20240617T160850Z
LAST-MODIFIED:20240617T160850Z
UID:1939-1724351400-1724360400@www.urbanhoundne.com
SUMMARY:August Birthday Party
DESCRIPTION:Does your dog have a August birthday\, or do you?! Come together with other dog owners on August 22 to celebrate our loved ones being born in August!
URL:https://www.urbanhoundne.com/event/august-birthday-party/
LOCATION:Urban Hound Dog Park & Bar\, 4848 Van Dorn Street Suite 1\, Lincoln\, NE\, 68506\, United States
ATTACH;FMTTYPE=image/png:https://www.urbanhoundne.com/wp-content/uploads/2024/02/Screenshot-2024-02-14-at-9.51.05 AM.png
END:VEVENT
BEGIN:VEVENT
DTSTART;TZID=UTC:20240817T170000
DTEND;TZID=UTC:20240817T200000
DTSTAMP:20260425T233828
CREATED:20240813T204006Z
LAST-MODIFIED:20240813T204006Z
UID:2026-1723914000-1723924800@www.urbanhoundne.com
SUMMARY:The Corner Kitchen Food Truck
DESCRIPTION:Join us as we host The Corner Kitchen at Urban Hound for freshly made and handcrafted traditional Afghan Cuisine!
URL:https://www.urbanhoundne.com/event/the-corner-kitchen-food-truck/
LOCATION:Urban Hound Dog Park & Bar\, 4848 Van Dorn Street Suite 1\, Lincoln\, NE\, 68506\, United States
ATTACH;FMTTYPE=image/jpeg:https://www.urbanhoundne.com/wp-content/uploads/2024/04/308870641_776511180444888_1191366753880031072_n.jpg
END:VEVENT
BEGIN:VEVENT
DTSTART;VALUE=DATE:20240817
DTEND;VALUE=DATE:20240818
DTSTAMP:20260425T233828
CREATED:20240722T204835Z
LAST-MODIFIED:20240722T204835Z
UID:1998-1723852800-1723939199@www.urbanhoundne.com
SUMMARY:Bark to School
DESCRIPTION:Get adorable school photos of your furry friends and pick up tips and learn new tricks from professional dog trainers!
URL:https://www.urbanhoundne.com/event/bark-to-school/
LOCATION:Urban Hound Dog Park & Bar\, 4848 Van Dorn Street Suite 1\, Lincoln\, NE\, 68506\, United States
ATTACH;FMTTYPE=image/png:https://www.urbanhoundne.com/wp-content/uploads/2024/07/bark-to-school-1.png
END:VEVENT
BEGIN:VEVENT
DTSTART;TZID=UTC:20240813T190000
DTEND;TZID=UTC:20240813T200000
DTSTAMP:20260425T233828
CREATED:20240730T175711Z
LAST-MODIFIED:20240730T175711Z
UID:2018-1723575600-1723579200@www.urbanhoundne.com
SUMMARY:Barks\, Brews\, & Music Bingo
DESCRIPTION:Join us for a tail-wagging good time with the joy of furry friends\, brews\, and a lively game of music bingo with chances to win pawsome prizes!
URL:https://www.urbanhoundne.com/event/barks-brews-music-bingo-20/
LOCATION:Urban Hound Dog Park & Bar\, 4848 Van Dorn Street Suite 1\, Lincoln\, NE\, 68506\, United States
ATTACH;FMTTYPE=image/png:https://www.urbanhoundne.com/wp-content/uploads/2023/09/music-bingo-2.png
END:VEVENT
BEGIN:VEVENT
DTSTART;VALUE=DATE:20240811
DTEND;VALUE=DATE:20240818
DTSTAMP:20260425T233828
CREATED:20240722T204605Z
LAST-MODIFIED:20240722T204605Z
UID:1994-1723334400-1723939199@www.urbanhoundne.com
SUMMARY:Bark to School Donations
DESCRIPTION:We’ve partnered with CEDARS to help children in need of some necessary items! Donate at Urban Hound to receive 50% off 1 day pass or a free drink!
URL:https://www.urbanhoundne.com/event/bark-to-school-donations/
LOCATION:Urban Hound Dog Park & Bar\, 4848 Van Dorn Street Suite 1\, Lincoln\, NE\, 68506\, United States
ATTACH;FMTTYPE=image/png:https://www.urbanhoundne.com/wp-content/uploads/2024/07/bark-to-school-1.png
END:VEVENT
BEGIN:VEVENT
DTSTART;TZID=UTC:20240808T190000
DTEND;TZID=UTC:20240808T200000
DTSTAMP:20260425T233828
CREATED:20240730T175501Z
LAST-MODIFIED:20240730T175501Z
UID:2015-1723143600-1723147200@www.urbanhoundne.com
SUMMARY:Trivia Night
DESCRIPTION:Bring your furry friends & test your knowledge at Trivia Night! Compete for fantastic prizes while enjoying the company of both two-legged and four-legged friends for a night of fun!
URL:https://www.urbanhoundne.com/event/trivia-night-11/
LOCATION:Urban Hound Dog Park & Bar\, 4848 Van Dorn Street Suite 1\, Lincoln\, NE\, 68506\, United States
ATTACH;FMTTYPE=image/png:https://www.urbanhoundne.com/wp-content/uploads/2023/12/Screenshot-2023-12-22-at-9.13.53 AM.png
END:VEVENT
BEGIN:VEVENT
DTSTART;TZID=UTC:20240730T190000
DTEND;TZID=UTC:20240730T210000
DTSTAMP:20260425T233828
CREATED:20240619T163507Z
LAST-MODIFIED:20240619T163507Z
UID:1950-1722366000-1722373200@www.urbanhoundne.com
SUMMARY:Barks\, Brews\, & Music Bingo
DESCRIPTION:Join us for a tail-wagging good time with the joy of furry friends\, brews\, and a lively game of music bingo with chances to win pawsome prizes!
URL:https://www.urbanhoundne.com/event/barks-brews-music-bingo-18/
LOCATION:Urban Hound Dog Park & Bar\, 4848 Van Dorn Street Suite 1\, Lincoln\, NE\, 68506\, United States
ATTACH;FMTTYPE=image/png:https://www.urbanhoundne.com/wp-content/uploads/2023/09/music-bingo-2.png
END:VEVENT
BEGIN:VEVENT
DTSTART;TZID=UTC:20240725T190000
DTEND;TZID=UTC:20240725T210000
DTSTAMP:20260425T233828
CREATED:20240619T163033Z
LAST-MODIFIED:20240619T163033Z
UID:1946-1721934000-1721941200@www.urbanhoundne.com
SUMMARY:Trivia Night
DESCRIPTION:Bring your furry friends & test your knowledge at Trivia Night! Compete for fantastic prizes while enjoying the company of both two-legged and four-legged friends for a night of fun!
URL:https://www.urbanhoundne.com/event/trivia-night-10/
LOCATION:Urban Hound Dog Park & Bar\, 4848 Van Dorn Street Suite 1\, Lincoln\, NE\, 68506\, United States
ATTACH;FMTTYPE=image/png:https://www.urbanhoundne.com/wp-content/uploads/2023/12/Screenshot-2023-12-22-at-9.13.53 AM.png
END:VEVENT
BEGIN:VEVENT
DTSTART;TZID=UTC:20240718T183000
DTEND;TZID=UTC:20240718T210000
DTSTAMP:20260425T233828
CREATED:20240617T160727Z
LAST-MODIFIED:20240619T163558Z
UID:1937-1721327400-1721336400@www.urbanhoundne.com
SUMMARY:July Birthday Party
DESCRIPTION:Does your dog have a July birthday\, or do you?! Come together with other dog owners on July 18 to celebrate our loved ones being born in July!
URL:https://www.urbanhoundne.com/event/july-birthday-party/
LOCATION:Urban Hound Dog Park & Bar\, 4848 Van Dorn Street Suite 1\, Lincoln\, NE\, 68506\, United States
ATTACH;FMTTYPE=image/png:https://www.urbanhoundne.com/wp-content/uploads/2024/02/Screenshot-2024-02-14-at-9.51.05 AM.png
END:VEVENT
BEGIN:VEVENT
DTSTART;TZID=UTC:20240716T190000
DTEND;TZID=UTC:20240716T210000
DTSTAMP:20260425T233828
CREATED:20240619T163529Z
LAST-MODIFIED:20240619T163529Z
UID:1949-1721156400-1721163600@www.urbanhoundne.com
SUMMARY:Barks\, Brews\, & Music Bingo
DESCRIPTION:Join us for a tail-wagging good time with the joy of furry friends\, brews\, and a lively game of music bingo with chances to win pawsome prizes!
URL:https://www.urbanhoundne.com/event/barks-brews-music-bingo-19/
LOCATION:Urban Hound Dog Park & Bar\, 4848 Van Dorn Street Suite 1\, Lincoln\, NE\, 68506\, United States
ATTACH;FMTTYPE=image/png:https://www.urbanhoundne.com/wp-content/uploads/2023/09/music-bingo-2.png
END:VEVENT
BEGIN:VEVENT
DTSTART;TZID=UTC:20240712T190000
DTEND;TZID=UTC:20240712T210000
DTSTAMP:20260425T233828
CREATED:20240622T140528Z
LAST-MODIFIED:20240712T003236Z
UID:1954-1720810800-1720818000@www.urbanhoundne.com
SUMMARY:CANCELLED: Sips\, Sing Alongs & Serenades
DESCRIPTION:This event has unfortunately been cancelled. Bar is still open for normal hours 3-10pm!
URL:https://www.urbanhoundne.com/event/sips-sing-alongs-serenades/
LOCATION:Urban Hound Dog Park & Bar\, 4848 Van Dorn Street Suite 1\, Lincoln\, NE\, 68506\, United States
ATTACH;FMTTYPE=image/png:https://www.urbanhoundne.com/wp-content/uploads/2024/04/facebook-event-cover-size-39.png
END:VEVENT
BEGIN:VEVENT
DTSTART;TZID=UTC:20240711T190000
DTEND;TZID=UTC:20240711T210000
DTSTAMP:20260425T233828
CREATED:20240619T162949Z
LAST-MODIFIED:20240619T162949Z
UID:1945-1720724400-1720731600@www.urbanhoundne.com
SUMMARY:Trivia Night
DESCRIPTION:Bring your furry friends & test your knowledge at Trivia Night! Compete for fantastic prizes while enjoying the company of both two-legged and four-legged friends for a night of fun!
URL:https://www.urbanhoundne.com/event/trivia-night-9/
LOCATION:Urban Hound Dog Park & Bar\, 4848 Van Dorn Street Suite 1\, Lincoln\, NE\, 68506\, United States
ATTACH;FMTTYPE=image/png:https://www.urbanhoundne.com/wp-content/uploads/2023/12/Screenshot-2023-12-22-at-9.13.53 AM.png
END:VEVENT
BEGIN:VEVENT
DTSTART;VALUE=DATE:20240704
DTEND;VALUE=DATE:20240705
DTSTAMP:20260425T233828
CREATED:20240603T142207Z
LAST-MODIFIED:20240603T142207Z
UID:1931-1720051200-1720137599@www.urbanhoundne.com
SUMMARY:Closed for Independence Day
DESCRIPTION:We will be closed in observance of Independence Day. Keeps those pups safe at home!
URL:https://www.urbanhoundne.com/event/closed-for-independence-day/
LOCATION:Urban Hound Dog Park & Bar\, 4848 Van Dorn Street Suite 1\, Lincoln\, NE\, 68506\, United States
ATTACH;FMTTYPE=image/png:https://www.urbanhoundne.com/wp-content/uploads/2023/06/dog-bless-fbook-1.png
END:VEVENT
BEGIN:VEVENT
DTSTART;TZID=UTC:20240630T160000
DTEND;TZID=UTC:20240630T190000
DTSTAMP:20260425T233828
CREATED:20240530T010557Z
LAST-MODIFIED:20240603T141501Z
UID:1926-1719763200-1719774000@www.urbanhoundne.com
SUMMARY:Dog Bless America - 4th of July Costume Parade
DESCRIPTION:Join us for a parade of your dogs best Red\, White and Blue for our Dog Bless America Event!
URL:https://www.urbanhoundne.com/event/4th-of-july-costume-parade/
LOCATION:Urban Hound Dog Park & Bar\, 4848 Van Dorn Street Suite 1\, Lincoln\, NE\, 68506\, United States
END:VEVENT
BEGIN:VEVENT
DTSTART;TZID=UTC:20240629T150000
DTEND;TZID=UTC:20240629T170000
DTSTAMP:20260425T233828
CREATED:20240526T013408Z
LAST-MODIFIED:20240526T013408Z
UID:1917-1719673200-1719680400@www.urbanhoundne.com
SUMMARY:Dogs with Human Names Meetup
DESCRIPTION:Does your dog have a human name? Join other owners and dogs alike for this fun Human Name meetup!
URL:https://www.urbanhoundne.com/event/dogs-with-human-names-meetup-2/
LOCATION:Urban Hound Dog Park & Bar\, 4848 Van Dorn Street Suite 1\, Lincoln\, NE\, 68506\, United States
ATTACH;FMTTYPE=image/jpeg:https://www.urbanhoundne.com/wp-content/uploads/2023/07/EA3DF5F9-417F-4D6D-98C4-3ED8CBD8C535_L0_001-6_14_2023-11_06_22-AM-scaled.jpg
END:VEVENT
BEGIN:VEVENT
DTSTART;TZID=UTC:20240627T183000
DTEND;TZID=UTC:20240627T210000
DTSTAMP:20260425T233828
CREATED:20240530T010907Z
LAST-MODIFIED:20240530T012642Z
UID:1928-1719513000-1719522000@www.urbanhoundne.com
SUMMARY:June Birthday Party
DESCRIPTION:Does your dog have a June birthday\, or do you?! Come together with other dog owners on June 27 to celebrate our loved ones being born in June!
URL:https://www.urbanhoundne.com/event/june-birthday-party/
LOCATION:Urban Hound Dog Park & Bar\, 4848 Van Dorn Street Suite 1\, Lincoln\, NE\, 68506\, United States
ATTACH;FMTTYPE=image/png:https://www.urbanhoundne.com/wp-content/uploads/2024/02/Screenshot-2024-02-14-at-9.51.05 AM.png
END:VEVENT
BEGIN:VEVENT
DTSTART;TZID=UTC:20240623T140000
DTEND;TZID=UTC:20240623T160000
DTSTAMP:20260425T233828
CREATED:20240514T141344Z
LAST-MODIFIED:20240514T141344Z
UID:1889-1719151200-1719158400@www.urbanhoundne.com
SUMMARY:Crafternoon at Urban Hound
DESCRIPTION:Sip & Craft Canine Inspired Art with your Furry Friends! $10 per person\, email urbanhoundne@gmail.com to RSVP!
URL:https://www.urbanhoundne.com/event/crafternoon-at-urban-hound-6/
LOCATION:Urban Hound Dog Park & Bar\, 4848 Van Dorn Street Suite 1\, Lincoln\, NE\, 68506\, United States
ATTACH;FMTTYPE=image/png:https://www.urbanhoundne.com/wp-content/uploads/2024/01/Screenshot-2024-01-21-at-2.26.45 PM.png
END:VEVENT
END:VCALENDAR