BEGIN:VCALENDAR
VERSION:2.0
PRODID:-//Urban Hound Dog Park &amp; Bar - ECPv6.15.20//NONSGML v1.0//EN
CALSCALE:GREGORIAN
METHOD:PUBLISH
X-WR-CALNAME:Urban Hound Dog Park &amp; Bar
X-ORIGINAL-URL:https://www.urbanhoundne.com
X-WR-CALDESC:Events for Urban Hound Dog Park &amp; Bar
REFRESH-INTERVAL;VALUE=DURATION:PT1H
X-Robots-Tag:noindex
X-PUBLISHED-TTL:PT1H
BEGIN:VTIMEZONE
TZID:UTC
BEGIN:STANDARD
TZOFFSETFROM:+0000
TZOFFSETTO:+0000
TZNAME:UTC
DTSTART:20230101T000000
END:STANDARD
END:VTIMEZONE
BEGIN:VEVENT
DTSTART;TZID=UTC:20241208T140000
DTEND;TZID=UTC:20241208T160000
DTSTAMP:20260425T134640
CREATED:20241108T200222Z
LAST-MODIFIED:20241108T200222Z
UID:2105-1733666400-1733673600@www.urbanhoundne.com
SUMMARY:Christmas Craft-ernoon
DESCRIPTION:Join us to make dog paw print Christmas ornaments! We will also have $2 off all craft beers! RSVP to save your spot!
URL:https://www.urbanhoundne.com/event/christmas-craft-ernoon/
LOCATION:Urban Hound Dog Park & Bar\, 4848 Van Dorn Street Suite 1\, Lincoln\, NE\, 68506\, United States
END:VEVENT
BEGIN:VEVENT
DTSTART;TZID=UTC:20241203T190000
DTEND;TZID=UTC:20241203T210000
DTSTAMP:20260425T134640
CREATED:20241110T175024Z
LAST-MODIFIED:20241110T175024Z
UID:2111-1733252400-1733259600@www.urbanhoundne.com
SUMMARY:Holiday Trivia Night
DESCRIPTION:Bring your furry friends & test your knowledge for Trivia Night! Compete for prizes while enjoying the company of both furry and human friends!
URL:https://www.urbanhoundne.com/event/holiday-trivia-night/
LOCATION:Urban Hound Dog Park & Bar\, 4848 Van Dorn Street Suite 1\, Lincoln\, NE\, 68506\, United States
END:VEVENT
BEGIN:VEVENT
DTSTART;TZID=UTC:20241203T180000
DTEND;TZID=UTC:20241203T210000
DTSTAMP:20260425T134640
CREATED:20241108T200512Z
LAST-MODIFIED:20241112T192006Z
UID:2107-1733248800-1733259600@www.urbanhoundne.com
SUMMARY:Ugly Sweater Party
DESCRIPTION:Join us for our Ugly Christmas Sweater party with Christmas Trivia and a special appearance from Santa for photo’s with your pups!
URL:https://www.urbanhoundne.com/event/santa-paws-sweater-claws/
LOCATION:Urban Hound Dog Park & Bar\, 4848 Van Dorn Street Suite 1\, Lincoln\, NE\, 68506\, United States
END:VEVENT
BEGIN:VEVENT
DTSTART;TZID=UTC:20241203T180000
DTEND;TZID=UTC:20241203T190000
DTSTAMP:20260425T134640
CREATED:20241110T175845Z
LAST-MODIFIED:20241110T175916Z
UID:2115-1733248800-1733252400@www.urbanhoundne.com
SUMMARY:Pictures with Santa
DESCRIPTION:Join us for photos with Santa for you and your pups!
URL:https://www.urbanhoundne.com/event/pictures-with-santa/
LOCATION:Urban Hound Dog Park & Bar\, 4848 Van Dorn Street Suite 1\, Lincoln\, NE\, 68506\, United States
ATTACH;FMTTYPE=image/jpeg:https://www.urbanhoundne.com/wp-content/uploads/2024/11/IMG_0798-scaled.jpeg
END:VEVENT
BEGIN:VEVENT
DTSTART;VALUE=DATE:20241129
DTEND;VALUE=DATE:20241202
DTSTAMP:20260425T134640
CREATED:20241126T052923Z
LAST-MODIFIED:20241126T052923Z
UID:2122-1732838400-1733097599@www.urbanhoundne.com
SUMMARY:Black Friday / Small Business Sales
DESCRIPTION:Shop small this holiday season at Urban Hound! Shop daycare specials\, gift cards and merchandise discounts all weekend!
URL:https://www.urbanhoundne.com/event/black-friday-small-business-sales/
LOCATION:Urban Hound Dog Park & Bar\, 4848 Van Dorn Street Suite 1\, Lincoln\, NE\, 68506\, United States
END:VEVENT
BEGIN:VEVENT
DTSTART;VALUE=DATE:20241128
DTEND;VALUE=DATE:20241129
DTSTAMP:20260425T134640
CREATED:20240729T184500Z
LAST-MODIFIED:20241126T053214Z
UID:2009-1732752000-1732838399@www.urbanhoundne.com
SUMMARY:Holiday Closure – No Daycare or Bar Services
DESCRIPTION:Urban Hound Dog Park & Bar will be closed on Thanksgiving Day to spend time with human & furry family. Happy Thanksgiving!
URL:https://www.urbanhoundne.com/event/holiday-closure-2/
LOCATION:Urban Hound Dog Park & Bar\, 4848 Van Dorn Street Suite 1\, Lincoln\, NE\, 68506\, United States
END:VEVENT
BEGIN:VEVENT
DTSTART;TZID=UTC:20241122T180000
DTEND;TZID=UTC:20241122T210000
DTSTAMP:20260425T134640
CREATED:20241008T143424Z
LAST-MODIFIED:20241008T143424Z
UID:2083-1732298400-1732309200@www.urbanhoundne.com
SUMMARY:TAILgate Party
DESCRIPTION:Join us for a pregame TAILgate at Urban Hound with drinks\, food\, and of your course YOUR PUPS!
URL:https://www.urbanhoundne.com/event/tailgate-party-11/
LOCATION:Urban Hound Dog Park & Bar\, 4848 Van Dorn Street Suite 1\, Lincoln\, NE\, 68506\, United States
ATTACH;FMTTYPE=image/png:https://www.urbanhoundne.com/wp-content/uploads/2024/09/tailgate-22.png
END:VEVENT
BEGIN:VEVENT
DTSTART;TZID=UTC:20241119T183000
DTEND;TZID=UTC:20241119T200000
DTSTAMP:20260425T134640
CREATED:20241008T143130Z
LAST-MODIFIED:20241008T143130Z
UID:2078-1732041000-1732046400@www.urbanhoundne.com
SUMMARY:Barks\, Brews\, & Music Bingo
DESCRIPTION:Join us for a tail-wagging good time with the joy of furry friends\, brews\, and a lively game of music bingo with chances to win pawsome prizes!
URL:https://www.urbanhoundne.com/event/barks-brews-music-bingo-24/
LOCATION:Urban Hound Dog Park & Bar\, 4848 Van Dorn Street Suite 1\, Lincoln\, NE\, 68506\, United States
ATTACH;FMTTYPE=image/png:https://www.urbanhoundne.com/wp-content/uploads/2023/09/music-bingo-2.png
END:VEVENT
BEGIN:VEVENT
DTSTART;TZID=UTC:20241115T180000
DTEND;TZID=UTC:20241115T210000
DTSTAMP:20260425T134640
CREATED:20241008T143401Z
LAST-MODIFIED:20241008T143401Z
UID:2082-1731693600-1731704400@www.urbanhoundne.com
SUMMARY:TAILgate Party
DESCRIPTION:Join us for a pregame TAILgate at Urban Hound with drinks\, food\, and of your course YOUR PUPS!
URL:https://www.urbanhoundne.com/event/tailgate-party-10/
LOCATION:Urban Hound Dog Park & Bar\, 4848 Van Dorn Street Suite 1\, Lincoln\, NE\, 68506\, United States
ATTACH;FMTTYPE=image/png:https://www.urbanhoundne.com/wp-content/uploads/2024/09/tailgate-22.png
END:VEVENT
BEGIN:VEVENT
DTSTART;TZID=UTC:20241112T183000
DTEND;TZID=UTC:20241112T203000
DTSTAMP:20260425T134640
CREATED:20241008T143604Z
LAST-MODIFIED:20241008T143604Z
UID:2085-1731436200-1731443400@www.urbanhoundne.com
SUMMARY:Trivia Night
DESCRIPTION:Bring your furry friends & test your knowledge for Trivia Night! Compete for prizes while enjoying the company of both furry and human friends!
URL:https://www.urbanhoundne.com/event/trivia-night-15/
LOCATION:Urban Hound Dog Park & Bar\, 4848 Van Dorn Street Suite 1\, Lincoln\, NE\, 68506\, United States
ATTACH;FMTTYPE=image/png:https://www.urbanhoundne.com/wp-content/uploads/2023/12/Screenshot-2023-12-22-at-9.13.53 AM.png
END:VEVENT
BEGIN:VEVENT
DTSTART;VALUE=DATE:20241109
DTEND;VALUE=DATE:20241111
DTSTAMP:20260425T134640
CREATED:20241008T153724Z
LAST-MODIFIED:20241008T153848Z
UID:2095-1731110400-1731283199@www.urbanhoundne.com
SUMMARY:Veterans Day Special
DESCRIPTION:As a token of our support\, Veterans & Military personnel may enjoy a complimentary beverage of choice. Thank you for your service!
URL:https://www.urbanhoundne.com/event/veterans-day-special/
LOCATION:Urban Hound Dog Park & Bar\, 4848 Van Dorn Street Suite 1\, Lincoln\, NE\, 68506\, United States
ATTACH;FMTTYPE=image/jpeg:https://www.urbanhoundne.com/wp-content/uploads/2023/07/2FEA18DD-34E6-4673-B506-D8EF30A53717_L0_001-7_13_2023-4_42_30-PM-scaled.jpg
END:VEVENT
BEGIN:VEVENT
DTSTART;TZID=UTC:20241107T183000
DTEND;TZID=UTC:20241107T200000
DTSTAMP:20260425T134640
CREATED:20241008T142919Z
LAST-MODIFIED:20241008T142919Z
UID:2076-1731004200-1731009600@www.urbanhoundne.com
SUMMARY:Barks\, Brews\, & Music Bingo
DESCRIPTION:Join us for a tail-wagging good time with the joy of furry friends\, brews\, and a lively game of music bingo with chances to win pawsome prizes!
URL:https://www.urbanhoundne.com/event/barks-brews-music-bingo-23/
LOCATION:Urban Hound Dog Park & Bar\, 4848 Van Dorn Street Suite 1\, Lincoln\, NE\, 68506\, United States
ATTACH;FMTTYPE=image/png:https://www.urbanhoundne.com/wp-content/uploads/2023/09/music-bingo-2.png
END:VEVENT
BEGIN:VEVENT
DTSTART;VALUE=DATE:20241103
DTEND;VALUE=DATE:20241104
DTSTAMP:20260425T134640
CREATED:20241008T143808Z
LAST-MODIFIED:20241008T143808Z
UID:2093-1730592000-1730678399@www.urbanhoundne.com
SUMMARY:RedLinc BBQ Truck
DESCRIPTION:Bring your pups\, grab some yummy food from RedLinc BBQ and head on in to Urban Hound!
URL:https://www.urbanhoundne.com/event/redlinc-bbq-truck-2/
LOCATION:Urban Hound Dog Park & Bar\, 4848 Van Dorn Street Suite 1\, Lincoln\, NE\, 68506\, United States
ATTACH;FMTTYPE=image/png:https://www.urbanhoundne.com/wp-content/uploads/2024/04/nachos.png
END:VEVENT
BEGIN:VEVENT
DTSTART;VALUE=DATE:20241103
DTEND;VALUE=DATE:20241104
DTSTAMP:20260425T134640
CREATED:20240712T142659Z
LAST-MODIFIED:20240712T142727Z
UID:1971-1730592000-1730678399@www.urbanhoundne.com
SUMMARY:Fall Barket Market
DESCRIPTION:Join us for a fun filled day of vendors\, food\, and specials at our first Fall Barket Market!
URL:https://www.urbanhoundne.com/event/fall-barket-market/
LOCATION:Urban Hound Dog Park & Bar\, 4848 Van Dorn Street Suite 1\, Lincoln\, NE\, 68506\, United States
ATTACH;FMTTYPE=image/png:https://www.urbanhoundne.com/wp-content/uploads/2024/07/facebook-event-cover-size-48.png
END:VEVENT
BEGIN:VEVENT
DTSTART;TZID=UTC:20241101T180000
DTEND;TZID=UTC:20241101T210000
DTSTAMP:20260425T134640
CREATED:20241008T143317Z
LAST-MODIFIED:20241008T143317Z
UID:2080-1730484000-1730494800@www.urbanhoundne.com
SUMMARY:TAILgate Party
DESCRIPTION:Join us for a pregame TAILgate at Urban Hound with drinks\, food\, and of your course YOUR PUPS!
URL:https://www.urbanhoundne.com/event/tailgate-party-9/
LOCATION:Urban Hound Dog Park & Bar\, 4848 Van Dorn Street Suite 1\, Lincoln\, NE\, 68506\, United States
ATTACH;FMTTYPE=image/png:https://www.urbanhoundne.com/wp-content/uploads/2024/09/tailgate-22.png
END:VEVENT
BEGIN:VEVENT
DTSTART;TZID=UTC:20241031T190000
DTEND;TZID=UTC:20241031T210000
DTSTAMP:20260425T134640
CREATED:20240729T184103Z
LAST-MODIFIED:20240902T155250Z
UID:2007-1730401200-1730408400@www.urbanhoundne.com
SUMMARY:Halloween Trivia
DESCRIPTION:
URL:https://www.urbanhoundne.com/event/halloween-trivia/
LOCATION:Urban Hound Dog Park & Bar\, 4848 Van Dorn Street Suite 1\, Lincoln\, NE\, 68506\, United States
END:VEVENT
BEGIN:VEVENT
DTSTART;TZID=UTC:20241031T180000
DTEND;TZID=UTC:20241031T200000
DTSTAMP:20260425T134640
CREATED:20240729T183940Z
LAST-MODIFIED:20240902T155236Z
UID:2005-1730397600-1730404800@www.urbanhoundne.com
SUMMARY:Costume Contest
DESCRIPTION:
URL:https://www.urbanhoundne.com/event/costume-contest/
LOCATION:Urban Hound Dog Park & Bar\, 4848 Van Dorn Street Suite 1\, Lincoln\, NE\, 68506\, United States
END:VEVENT
BEGIN:VEVENT
DTSTART;TZID=UTC:20241031T173000
DTEND;TZID=UTC:20241031T210000
DTSTAMP:20260425T134640
CREATED:20240808T205621Z
LAST-MODIFIED:20240808T205621Z
UID:2023-1730395800-1730408400@www.urbanhoundne.com
SUMMARY:Billie's Grilled Cheese Food Truck
DESCRIPTION:Join us for Halloween Trivia\, a costume contest and GRILLED CHEESE from Billie’s!
URL:https://www.urbanhoundne.com/event/billies-grilled-cheese-food-truck/
LOCATION:Urban Hound Dog Park & Bar\, 4848 Van Dorn Street Suite 1\, Lincoln\, NE\, 68506\, United States
ATTACH;FMTTYPE=image/png:https://www.urbanhoundne.com/wp-content/uploads/2024/08/facebook-event-cover-size-62.png
END:VEVENT
BEGIN:VEVENT
DTSTART;VALUE=DATE:20241030
DTEND;VALUE=DATE:20241031
DTSTAMP:20260425T134640
CREATED:20240712T003725Z
LAST-MODIFIED:20240718T222112Z
UID:1967-1730246400-1730332799@www.urbanhoundne.com
SUMMARY:October Movie Series
DESCRIPTION:Join us for October movie nights! We’ll be showing the movie outdoors & indoors. Don’t forget to bring your furry friends\, and we’ll supply the popcorn!
URL:https://www.urbanhoundne.com/event/october-movie-series-5/
LOCATION:Urban Hound Dog Park & Bar\, 4848 Van Dorn Street Suite 1\, Lincoln\, NE\, 68506\, United States
ATTACH;FMTTYPE=image/png:https://www.urbanhoundne.com/wp-content/uploads/2024/07/fall-movie-series.png
END:VEVENT
BEGIN:VEVENT
DTSTART;TZID=UTC:20241025T180000
DTEND;TZID=UTC:20241025T200000
DTSTAMP:20260425T134640
CREATED:20240911T233928Z
LAST-MODIFIED:20240911T233928Z
UID:2053-1729879200-1729886400@www.urbanhoundne.com
SUMMARY:TAILgate Party
DESCRIPTION:Join us for a pregame TAILgate at Urban Hound with drinks\, food\, and of your course YOUR PUPS!
URL:https://www.urbanhoundne.com/event/tailgate-party-8/
LOCATION:Urban Hound Dog Park & Bar\, 4848 Van Dorn Street Suite 1\, Lincoln\, NE\, 68506\, United States
ATTACH;FMTTYPE=image/png:https://www.urbanhoundne.com/wp-content/uploads/2024/09/tailgate-22.png
END:VEVENT
BEGIN:VEVENT
DTSTART;VALUE=DATE:20241023
DTEND;VALUE=DATE:20241024
DTSTAMP:20260425T134640
CREATED:20240712T003657Z
LAST-MODIFIED:20240718T222120Z
UID:1961-1729641600-1729727999@www.urbanhoundne.com
SUMMARY:October Movie Series
DESCRIPTION:Join us for October movie nights! We’ll be showing the movie outdoors & indoors. Don’t forget to bring your furry friends\, and we’ll supply the popcorn!
URL:https://www.urbanhoundne.com/event/october-movie-series-4/
LOCATION:Urban Hound Dog Park & Bar\, 4848 Van Dorn Street Suite 1\, Lincoln\, NE\, 68506\, United States
ATTACH;FMTTYPE=image/png:https://www.urbanhoundne.com/wp-content/uploads/2024/07/fall-movie-series.png
END:VEVENT
BEGIN:VEVENT
DTSTART;TZID=UTC:20241022T190000
DTEND;TZID=UTC:20241022T210000
DTSTAMP:20260425T134640
CREATED:20240911T235508Z
LAST-MODIFIED:20240911T235529Z
UID:2058-1729623600-1729630800@www.urbanhoundne.com
SUMMARY:Barks\, Brews\, & Music Bingo
DESCRIPTION:Join us for a tail-wagging good time with the joy of furry friends\, brews\, and a lively game of music bingo with chances to win pawsome prizes!
URL:https://www.urbanhoundne.com/event/barks-brews-music-bingo-22/
LOCATION:Urban Hound Dog Park & Bar\, 4848 Van Dorn Street Suite 1\, Lincoln\, NE\, 68506\, United States
ATTACH;FMTTYPE=image/png:https://www.urbanhoundne.com/wp-content/uploads/2023/09/music-bingo-2.png
END:VEVENT
BEGIN:VEVENT
DTSTART;TZID=UTC:20241020T140000
DTEND;TZID=UTC:20241020T160000
DTSTAMP:20260425T134640
CREATED:20240909T221020Z
LAST-MODIFIED:20240909T221112Z
UID:2045-1729432800-1729440000@www.urbanhoundne.com
SUMMARY:Golden Retriever Rescue In Nebraska Pop Up
DESCRIPTION:Urban Hound is hosting Golden Retriever Rescue in Nebraska for a pop up! Come see their available dogs for adoption and learn more about their rescue! Stay tuned for more info!
URL:https://www.urbanhoundne.com/event/golden-retriever-rescue-in-nebraska-pop-up/
LOCATION:Urban Hound Dog Park & Bar\, 4848 Van Dorn Street Suite 1\, Lincoln\, NE\, 68506\, United States
ATTACH;FMTTYPE=image/png:https://www.urbanhoundne.com/wp-content/uploads/2024/09/facebook-event-cover-size-67.png
END:VEVENT
BEGIN:VEVENT
DTSTART;TZID=UTC:20241018T180000
DTEND;TZID=UTC:20241018T200000
DTSTAMP:20260425T134640
CREATED:20240911T233834Z
LAST-MODIFIED:20240911T233834Z
UID:2051-1729274400-1729281600@www.urbanhoundne.com
SUMMARY:TAILgate Party
DESCRIPTION:Join us for a pregame TAILgate at Urban Hound with drinks\, food\, and of your course YOUR PUPS!
URL:https://www.urbanhoundne.com/event/tailgate-party-7/
LOCATION:Urban Hound Dog Park & Bar\, 4848 Van Dorn Street Suite 1\, Lincoln\, NE\, 68506\, United States
ATTACH;FMTTYPE=image/png:https://www.urbanhoundne.com/wp-content/uploads/2024/09/tailgate-22.png
END:VEVENT
BEGIN:VEVENT
DTSTART;VALUE=DATE:20241016
DTEND;VALUE=DATE:20241017
DTSTAMP:20260425T134640
CREATED:20240712T003644Z
LAST-MODIFIED:20240718T222128Z
UID:1962-1729036800-1729123199@www.urbanhoundne.com
SUMMARY:October Movie Series
DESCRIPTION:Join us for October movie nights! We’ll be showing the movie outdoors & indoors. Don’t forget to bring your furry friends\, and we’ll supply the popcorn!
URL:https://www.urbanhoundne.com/event/october-movie-series-3/
LOCATION:Urban Hound Dog Park & Bar\, 4848 Van Dorn Street Suite 1\, Lincoln\, NE\, 68506\, United States
ATTACH;FMTTYPE=image/png:https://www.urbanhoundne.com/wp-content/uploads/2024/07/fall-movie-series.png
END:VEVENT
BEGIN:VEVENT
DTSTART;TZID=UTC:20241015T190000
DTEND;TZID=UTC:20241015T210000
DTSTAMP:20260425T134640
CREATED:20240911T235155Z
LAST-MODIFIED:20240911T235218Z
UID:2055-1729018800-1729026000@www.urbanhoundne.com
SUMMARY:True Crime Trivia Night
DESCRIPTION:Bring your furry friends & test your knowledge for True Crime Trivia Night! Compete for prizes while enjoying the company of both furry and human friends!
URL:https://www.urbanhoundne.com/event/true-crime-trivia-night/
LOCATION:Urban Hound Dog Park & Bar\, 4848 Van Dorn Street Suite 1\, Lincoln\, NE\, 68506\, United States
ATTACH;FMTTYPE=image/png:https://www.urbanhoundne.com/wp-content/uploads/2023/12/Screenshot-2023-12-22-at-9.13.53 AM.png
END:VEVENT
BEGIN:VEVENT
DTSTART;TZID=UTC:20241012T180000
DTEND;TZID=UTC:20241012T200000
DTSTAMP:20260425T134640
CREATED:20241007T182200Z
LAST-MODIFIED:20241007T182200Z
UID:2069-1728756000-1728763200@www.urbanhoundne.com
SUMMARY:Accordion Music by Julia Williams
DESCRIPTION:Barktoberfest Event: Accordion Music by Julia Williams
URL:https://www.urbanhoundne.com/event/accordion-music-by-julia-williams/
LOCATION:Urban Hound Dog Park & Bar\, 4848 Van Dorn Street Suite 1\, Lincoln\, NE\, 68506\, United States
ATTACH;FMTTYPE=image/png:https://www.urbanhoundne.com/wp-content/uploads/2024/07/facebook-event-cover-size-52.png
END:VEVENT
BEGIN:VEVENT
DTSTART;TZID=UTC:20241012T160000
DTEND;TZID=UTC:20241012T170000
DTSTAMP:20260425T134640
CREATED:20241007T181825Z
LAST-MODIFIED:20241007T182244Z
UID:2064-1728748800-1728752400@www.urbanhoundne.com
SUMMARY:Dachshund Races
DESCRIPTION:Barktoberfest Event: Dachshund races starting at 4pm!
URL:https://www.urbanhoundne.com/event/dachshund-races/
LOCATION:Urban Hound Dog Park & Bar\, 4848 Van Dorn Street Suite 1\, Lincoln\, NE\, 68506\, United States
ATTACH;FMTTYPE=image/png:https://www.urbanhoundne.com/wp-content/uploads/2024/07/facebook-event-cover-size-52.png
END:VEVENT
BEGIN:VEVENT
DTSTART;TZID=UTC:20241012T150000
DTEND;TZID=UTC:20241012T210000
DTSTAMP:20260425T134640
CREATED:20241007T182017Z
LAST-MODIFIED:20241007T182253Z
UID:2066-1728745200-1728766800@www.urbanhoundne.com
SUMMARY:Brats & Pretzels
DESCRIPTION:Barktoberfest Event: Brats & Pretzels starting at 3pm!
URL:https://www.urbanhoundne.com/event/brats-pretzels/
LOCATION:Urban Hound Dog Park & Bar\, 4848 Van Dorn Street Suite 1\, Lincoln\, NE\, 68506\, United States
ATTACH;FMTTYPE=image/png:https://www.urbanhoundne.com/wp-content/uploads/2024/07/facebook-event-cover-size-52.png
END:VEVENT
BEGIN:VEVENT
DTSTART;VALUE=DATE:20241012
DTEND;VALUE=DATE:20241013
DTSTAMP:20260425T134640
CREATED:20240712T153621Z
LAST-MODIFIED:20240723T034224Z
UID:1984-1728691200-1728777599@www.urbanhoundne.com
SUMMARY:Barktober Fest
DESCRIPTION:Join us for a fun German-style fest with music\, beer\, food\, and of course\, your dogs! Stay tuned for more info!
URL:https://www.urbanhoundne.com/event/barktober-fest/
LOCATION:Urban Hound Dog Park & Bar\, 4848 Van Dorn Street Suite 1\, Lincoln\, NE\, 68506\, United States
ATTACH;FMTTYPE=image/png:https://www.urbanhoundne.com/wp-content/uploads/2024/07/facebook-event-cover-size-52.png
END:VEVENT
END:VCALENDAR