BEGIN:VCALENDAR
VERSION:2.0
PRODID:-//Urban Hound Dog Park &amp; Bar - ECPv6.15.20//NONSGML v1.0//EN
CALSCALE:GREGORIAN
METHOD:PUBLISH
X-WR-CALNAME:Urban Hound Dog Park &amp; Bar
X-ORIGINAL-URL:https://www.urbanhoundne.com
X-WR-CALDESC:Events for Urban Hound Dog Park &amp; Bar
REFRESH-INTERVAL;VALUE=DURATION:PT1H
X-Robots-Tag:noindex
X-PUBLISHED-TTL:PT1H
BEGIN:VTIMEZONE
TZID:UTC
BEGIN:STANDARD
TZOFFSETFROM:+0000
TZOFFSETTO:+0000
TZNAME:UTC
DTSTART:20230101T000000
END:STANDARD
END:VTIMEZONE
BEGIN:VEVENT
DTSTART;TZID=UTC:20250314T183000
DTEND;TZID=UTC:20250314T210000
DTSTAMP:20260425T155116
CREATED:20250310T020027Z
LAST-MODIFIED:20250310T020027Z
UID:2194-1741977000-1741986000@www.urbanhoundne.com
SUMMARY:Board Game Night
DESCRIPTION:Join us for Board Game Night! 🎲🃏 Have a favorite? Bring it for others to play. Bring your pup for a fun night out! Free to play!
URL:https://www.urbanhoundne.com/event/board-game-night-3/
LOCATION:Urban Hound Dog Park & Bar\, 4848 Van Dorn Street Suite 1\, Lincoln\, NE\, 68506\, United States
END:VEVENT
BEGIN:VEVENT
DTSTART;TZID=UTC:20250311T183000
DTEND;TZID=UTC:20250311T210000
DTSTAMP:20260425T155116
CREATED:20250224T190555Z
LAST-MODIFIED:20250224T190555Z
UID:2182-1741717800-1741726800@www.urbanhoundne.com
SUMMARY:Trivia Night
DESCRIPTION:Test your knowledge of March Facts at Trivia Night at Urban Hound! Play for some paw-some prizes and bring your pup for a fun night out!
URL:https://www.urbanhoundne.com/event/trivia-night-17/
LOCATION:Urban Hound Dog Park & Bar\, 4848 Van Dorn Street Suite 1\, Lincoln\, NE\, 68506\, United States
ATTACH;FMTTYPE=image/png:https://www.urbanhoundne.com/wp-content/uploads/2023/12/Screenshot-2023-12-22-at-9.13.53 AM.png
END:VEVENT
BEGIN:VEVENT
DTSTART;TZID=UTC:20250301T180000
DTEND;TZID=UTC:20250301T210000
DTSTAMP:20260425T155116
CREATED:20250213T174743Z
LAST-MODIFIED:20250213T174743Z
UID:2179-1740852000-1740862800@www.urbanhoundne.com
SUMMARY:Mardi Dawg Party
DESCRIPTION:It’s a Mardi Dawg Party! Join us for Hurricane Punch\, Mardi Gras Trivia\, Furry Fun\, Prizes and more! Pawrade attire encouraged!
URL:https://www.urbanhoundne.com/event/mardi-dawg-party/
LOCATION:Urban Hound Dog Park & Bar\, 4848 Van Dorn Street Suite 1\, Lincoln\, NE\, 68506\, United States
ATTACH;FMTTYPE=image/jpeg:https://www.urbanhoundne.com/wp-content/uploads/2025/02/dog-wearing-mardi-gras-mask.jpg
END:VEVENT
BEGIN:VEVENT
DTSTART;TZID=UTC:20250228T183000
DTEND;TZID=UTC:20250228T203000
DTSTAMP:20260425T155117
CREATED:20250129T170301Z
LAST-MODIFIED:20250129T170301Z
UID:2166-1740767400-1740774600@www.urbanhoundne.com
SUMMARY:Card Game Night
DESCRIPTION:Join us for Card Game Night! 🎲🃏 Have a favorite? Bring it for others to play. Bring your pup for a fun night out! Free to play!
URL:https://www.urbanhoundne.com/event/card-game-night/
LOCATION:Urban Hound Dog Park & Bar\, 4848 Van Dorn Street Suite 1\, Lincoln\, NE\, 68506\, United States
END:VEVENT
BEGIN:VEVENT
DTSTART;TZID=UTC:20250227T183000
DTEND;TZID=UTC:20250227T203000
DTSTAMP:20260425T155117
CREATED:20250129T165551Z
LAST-MODIFIED:20250224T185413Z
UID:2160-1740681000-1740688200@www.urbanhoundne.com
SUMMARY:Trivia Night
DESCRIPTION:Test your knowledge of February Facts at Trivia Night at Urban Hound! Play for some paw-some prizes and bring your pup for a fun night out!
URL:https://www.urbanhoundne.com/event/trivia-night-16/
LOCATION:Urban Hound Dog Park & Bar\, 4848 Van Dorn Street Suite 1\, Lincoln\, NE\, 68506\, United States
ATTACH;FMTTYPE=image/png:https://www.urbanhoundne.com/wp-content/uploads/2023/12/Screenshot-2023-12-22-at-9.13.53 AM.png
END:VEVENT
BEGIN:VEVENT
DTSTART;TZID=UTC:20250221T183000
DTEND;TZID=UTC:20250221T203000
DTSTAMP:20260425T155117
CREATED:20250129T170213Z
LAST-MODIFIED:20250129T170213Z
UID:2163-1740162600-1740169800@www.urbanhoundne.com
SUMMARY:Dice Game Night
DESCRIPTION:Join us for Dice Game Night! 🎲🃏 Have a favorite? Bring it for others to play. Bring your pup for a fun night out! Free to play!
URL:https://www.urbanhoundne.com/event/dice-game-night-2/
LOCATION:Urban Hound Dog Park & Bar\, 4848 Van Dorn Street Suite 1\, Lincoln\, NE\, 68506\, United States
END:VEVENT
BEGIN:VEVENT
DTSTART;TZID=UTC:20250214T150000
DTEND;TZID=UTC:20250214T210000
DTSTAMP:20260425T155117
CREATED:20241230T005216Z
LAST-MODIFIED:20241230T005216Z
UID:2135-1739545200-1739566800@www.urbanhoundne.com
SUMMARY:Smooches & Pooches: Valentine's Day at Urban Hound
DESCRIPTION:Half-price day passes\, discounts on all red & pink drinks\, and try our new Barkuterie Boxes filled with meat\, cheese\, crackers\, and sweets for both you and your furry friends!
URL:https://www.urbanhoundne.com/event/smooches-pooches-valentines-day-at-urban-hound-2/
LOCATION:Urban Hound Dog Park & Bar\, 4848 Van Dorn Street Suite 1\, Lincoln\, NE\, 68506\, United States
ATTACH;FMTTYPE=image/png:https://www.urbanhoundne.com/wp-content/uploads/2024/02/Screenshot-2024-02-06-at-2.02.16 PM.png
END:VEVENT
BEGIN:VEVENT
DTSTART;TZID=UTC:20250209T130000
DTEND;TZID=UTC:20250209T200000
DTSTAMP:20260425T155117
CREATED:20250126T214918Z
LAST-MODIFIED:20250126T214918Z
UID:2156-1739106000-1739131200@www.urbanhoundne.com
SUMMARY:Puppy Bowl Watch Party
DESCRIPTION:Join us to watch the Puppy Bowl before the Super Bowl at Urban Hound! Bring your favorite item to share at our potluck!
URL:https://www.urbanhoundne.com/event/puppy-bowl-watch-party/
LOCATION:Urban Hound Dog Park & Bar\, 4848 Van Dorn Street Suite 1\, Lincoln\, NE\, 68506\, United States
ATTACH;FMTTYPE=image/png:https://www.urbanhoundne.com/wp-content/uploads/2024/01/Screenshot-2024-01-29-at-10.14.24 AM.png
END:VEVENT
BEGIN:VEVENT
DTSTART;TZID=UTC:20250207T183000
DTEND;TZID=UTC:20250207T203000
DTSTAMP:20260425T155117
CREATED:20250129T170112Z
LAST-MODIFIED:20250129T170208Z
UID:2162-1738953000-1738960200@www.urbanhoundne.com
SUMMARY:Board Game Night
DESCRIPTION:Join us for Board Game Night! 🎲🃏 Have a favorite? Bring it for others to play. Bring your pup for a fun night out! Free to play!
URL:https://www.urbanhoundne.com/event/board-game-night-2/
LOCATION:Urban Hound Dog Park & Bar\, 4848 Van Dorn Street Suite 1\, Lincoln\, NE\, 68506\, United States
END:VEVENT
BEGIN:VEVENT
DTSTART;TZID=UTC:20250125T183000
DTEND;TZID=UTC:20250125T210000
DTSTAMP:20260425T155117
CREATED:20250107T201014Z
LAST-MODIFIED:20250107T201014Z
UID:2154-1737829800-1737838800@www.urbanhoundne.com
SUMMARY:80's Theme Party & Music Bingo
DESCRIPTION:Join us for an 80’s theme night with Music Bingo! Wear your favorite 80’s look and dress up your dogs to match the retro vibes! Best dressed dog and person prizes!
URL:https://www.urbanhoundne.com/event/80s-theme-party-music-bingo/
LOCATION:Urban Hound Dog Park & Bar\, 4848 Van Dorn Street Suite 1\, Lincoln\, NE\, 68506\, United States
END:VEVENT
BEGIN:VEVENT
DTSTART;TZID=UTC:20250121T183000
DTEND;TZID=UTC:20250121T210000
DTSTAMP:20260425T155117
CREATED:20250107T200750Z
LAST-MODIFIED:20250107T200750Z
UID:2152-1737484200-1737493200@www.urbanhoundne.com
SUMMARY:80's Trivia
DESCRIPTION:Bring your furry friends & test your knowledge for Trivia Night! Compete for prizes while enjoying the company of both furry and human friends!
URL:https://www.urbanhoundne.com/event/80s-trivia/
LOCATION:Urban Hound Dog Park & Bar\, 4848 Van Dorn Street Suite 1\, Lincoln\, NE\, 68506\, United States
ATTACH;FMTTYPE=image/png:https://www.urbanhoundne.com/wp-content/uploads/2023/12/Screenshot-2023-12-22-at-9.13.53 AM.png
END:VEVENT
BEGIN:VEVENT
DTSTART;TZID=UTC:20250117T183000
DTEND;TZID=UTC:20250117T210000
DTSTAMP:20260425T155117
CREATED:20250107T200429Z
LAST-MODIFIED:20250107T200429Z
UID:2150-1737138600-1737147600@www.urbanhoundne.com
SUMMARY:Dice Game Night
DESCRIPTION:Join us for Dice Game Night! 🎲🃏 Have a favorite? Bring it for others to play. Bring your pup for a fun night out! Free to play!
URL:https://www.urbanhoundne.com/event/dice-game-night/
LOCATION:Urban Hound Dog Park & Bar\, 4848 Van Dorn Street Suite 1\, Lincoln\, NE\, 68506\, United States
END:VEVENT
BEGIN:VEVENT
DTSTART;TZID=UTC:20250110T183000
DTEND;TZID=UTC:20250110T210000
DTSTAMP:20260425T155117
CREATED:20250107T200228Z
LAST-MODIFIED:20250107T200315Z
UID:2147-1736533800-1736542800@www.urbanhoundne.com
SUMMARY:Board Game Night
DESCRIPTION:Join us for Board Game Night! 🎲🃏 Have a favorite? Bring it for others to play. Bring your pup for a fun night out! Free to play!
URL:https://www.urbanhoundne.com/event/board-game-night/
LOCATION:Urban Hound Dog Park & Bar\, 4848 Van Dorn Street Suite 1\, Lincoln\, NE\, 68506\, United States
END:VEVENT
BEGIN:VEVENT
DTSTART;VALUE=DATE:20250101
DTEND;VALUE=DATE:20250102
DTSTAMP:20260425T155117
CREATED:20241202T204628Z
LAST-MODIFIED:20241202T204628Z
UID:2126-1735689600-1735775999@www.urbanhoundne.com
SUMMARY:Holiday Closure - No Daycare or Bar Services
DESCRIPTION:Urban Hound Dog Park & Bar + Daycare will be closed January 1 to spend time with human & furry family. Happy holidays!
URL:https://www.urbanhoundne.com/event/holiday-closure-no-daycare-or-bar-services/
LOCATION:Urban Hound Dog Park & Bar\, 4848 Van Dorn Street Suite 1\, Lincoln\, NE\, 68506\, United States
END:VEVENT
BEGIN:VEVENT
DTSTART;TZID=UTC:20241231T203000
DTEND;TZID=UTC:20241231T210000
DTSTAMP:20260425T155117
CREATED:20241230T005440Z
LAST-MODIFIED:20241230T010304Z
UID:2137-1735677000-1735678800@www.urbanhoundne.com
SUMMARY:NYE Ball Drop
DESCRIPTION:Join us for a tennis ball drop for your pups to ring in the new year! Plus\, your pup will receive a free Hound Hop with every purchase!
URL:https://www.urbanhoundne.com/event/nye-ball-drop/
LOCATION:Urban Hound Dog Park & Bar\, 4848 Van Dorn Street Suite 1\, Lincoln\, NE\, 68506\, United States
ATTACH;FMTTYPE=image/png:https://www.urbanhoundne.com/wp-content/uploads/2024/12/facebook-event-cover-size-77.png
END:VEVENT
BEGIN:VEVENT
DTSTART;VALUE=DATE:20241223
DTEND;VALUE=DATE:20241226
DTSTAMP:20260425T155117
CREATED:20240729T184940Z
LAST-MODIFIED:20241126T053012Z
UID:2011-1734912000-1735171199@www.urbanhoundne.com
SUMMARY:Holiday Closure - No Daycare or Bar Services
DESCRIPTION:Urban Hound Dog Park & Bar + Daycare will be closed December 23-25 to spend time with human & furry family. Happy holidays!
URL:https://www.urbanhoundne.com/event/holiday-closure/
LOCATION:Urban Hound Dog Park & Bar\, 4848 Van Dorn Street Suite 1\, Lincoln\, NE\, 68506\, United States
END:VEVENT
BEGIN:VEVENT
DTSTART;TZID=UTC:20241217T190000
DTEND;TZID=UTC:20241217T210000
DTSTAMP:20260425T155117
CREATED:20241110T175409Z
LAST-MODIFIED:20241110T175409Z
UID:2113-1734462000-1734469200@www.urbanhoundne.com
SUMMARY:Holiday Trivia Night
DESCRIPTION:Bring your furry friends & test your knowledge for Trivia Night! Compete for prizes while enjoying the company of both furry and human friends!
URL:https://www.urbanhoundne.com/event/holiday-trivia-night-2/
LOCATION:Urban Hound Dog Park & Bar\, 4848 Van Dorn Street Suite 1\, Lincoln\, NE\, 68506\, United States
END:VEVENT
BEGIN:VEVENT
DTSTART;TZID=UTC:20241217T180000
DTEND;TZID=UTC:20241217T210000
DTSTAMP:20260425T155117
CREATED:20241108T200716Z
LAST-MODIFIED:20241108T200716Z
UID:2109-1734458400-1734469200@www.urbanhoundne.com
SUMMARY:Howl-iday PJ Party
DESCRIPTION:Join us for our Christmas PJ party with Christmas Trivia and a special appearance from Santa for photo’s with your pups!
URL:https://www.urbanhoundne.com/event/howl-iday-pj-party/
LOCATION:Urban Hound Dog Park & Bar\, 4848 Van Dorn Street Suite 1\, Lincoln\, NE\, 68506\, United States
END:VEVENT
BEGIN:VEVENT
DTSTART;TZID=UTC:20241217T180000
DTEND;TZID=UTC:20241217T190000
DTSTAMP:20260425T155117
CREATED:20241110T180008Z
LAST-MODIFIED:20241110T180008Z
UID:2118-1734458400-1734462000@www.urbanhoundne.com
SUMMARY:Pictures with Santa
DESCRIPTION:Join us for photos with Santa for you and your pups!
URL:https://www.urbanhoundne.com/event/pictures-with-santa-2/
LOCATION:Urban Hound Dog Park & Bar\, 4848 Van Dorn Street Suite 1\, Lincoln\, NE\, 68506\, United States
ATTACH;FMTTYPE=image/jpeg:https://www.urbanhoundne.com/wp-content/uploads/2024/11/IMG_0798-scaled.jpeg
END:VEVENT
BEGIN:VEVENT
DTSTART;TZID=UTC:20241213T183000
DTEND;TZID=UTC:20241213T210000
DTSTAMP:20260425T155117
CREATED:20241107T234124Z
LAST-MODIFIED:20241107T234124Z
UID:2103-1734114600-1734123600@www.urbanhoundne.com
SUMMARY:Taylor Swift Night
DESCRIPTION:A fun night out with your pups! Music bingo\, friendship bracelet making\, Eras Tour watch party & themed drink specials!
URL:https://www.urbanhoundne.com/event/taylor-swift-night/
LOCATION:Urban Hound Dog Park & Bar\, 4848 Van Dorn Street Suite 1\, Lincoln\, NE\, 68506\, United States
END:VEVENT
BEGIN:VEVENT
DTSTART;TZID=UTC:20241208T140000
DTEND;TZID=UTC:20241208T160000
DTSTAMP:20260425T155117
CREATED:20241108T200222Z
LAST-MODIFIED:20241108T200222Z
UID:2105-1733666400-1733673600@www.urbanhoundne.com
SUMMARY:Christmas Craft-ernoon
DESCRIPTION:Join us to make dog paw print Christmas ornaments! We will also have $2 off all craft beers! RSVP to save your spot!
URL:https://www.urbanhoundne.com/event/christmas-craft-ernoon/
LOCATION:Urban Hound Dog Park & Bar\, 4848 Van Dorn Street Suite 1\, Lincoln\, NE\, 68506\, United States
END:VEVENT
BEGIN:VEVENT
DTSTART;TZID=UTC:20241203T190000
DTEND;TZID=UTC:20241203T210000
DTSTAMP:20260425T155117
CREATED:20241110T175024Z
LAST-MODIFIED:20241110T175024Z
UID:2111-1733252400-1733259600@www.urbanhoundne.com
SUMMARY:Holiday Trivia Night
DESCRIPTION:Bring your furry friends & test your knowledge for Trivia Night! Compete for prizes while enjoying the company of both furry and human friends!
URL:https://www.urbanhoundne.com/event/holiday-trivia-night/
LOCATION:Urban Hound Dog Park & Bar\, 4848 Van Dorn Street Suite 1\, Lincoln\, NE\, 68506\, United States
END:VEVENT
BEGIN:VEVENT
DTSTART;TZID=UTC:20241203T180000
DTEND;TZID=UTC:20241203T210000
DTSTAMP:20260425T155117
CREATED:20241108T200512Z
LAST-MODIFIED:20241112T192006Z
UID:2107-1733248800-1733259600@www.urbanhoundne.com
SUMMARY:Ugly Sweater Party
DESCRIPTION:Join us for our Ugly Christmas Sweater party with Christmas Trivia and a special appearance from Santa for photo’s with your pups!
URL:https://www.urbanhoundne.com/event/santa-paws-sweater-claws/
LOCATION:Urban Hound Dog Park & Bar\, 4848 Van Dorn Street Suite 1\, Lincoln\, NE\, 68506\, United States
END:VEVENT
BEGIN:VEVENT
DTSTART;TZID=UTC:20241203T180000
DTEND;TZID=UTC:20241203T190000
DTSTAMP:20260425T155117
CREATED:20241110T175845Z
LAST-MODIFIED:20241110T175916Z
UID:2115-1733248800-1733252400@www.urbanhoundne.com
SUMMARY:Pictures with Santa
DESCRIPTION:Join us for photos with Santa for you and your pups!
URL:https://www.urbanhoundne.com/event/pictures-with-santa/
LOCATION:Urban Hound Dog Park & Bar\, 4848 Van Dorn Street Suite 1\, Lincoln\, NE\, 68506\, United States
ATTACH;FMTTYPE=image/jpeg:https://www.urbanhoundne.com/wp-content/uploads/2024/11/IMG_0798-scaled.jpeg
END:VEVENT
BEGIN:VEVENT
DTSTART;VALUE=DATE:20241129
DTEND;VALUE=DATE:20241202
DTSTAMP:20260425T155117
CREATED:20241126T052923Z
LAST-MODIFIED:20241126T052923Z
UID:2122-1732838400-1733097599@www.urbanhoundne.com
SUMMARY:Black Friday / Small Business Sales
DESCRIPTION:Shop small this holiday season at Urban Hound! Shop daycare specials\, gift cards and merchandise discounts all weekend!
URL:https://www.urbanhoundne.com/event/black-friday-small-business-sales/
LOCATION:Urban Hound Dog Park & Bar\, 4848 Van Dorn Street Suite 1\, Lincoln\, NE\, 68506\, United States
END:VEVENT
BEGIN:VEVENT
DTSTART;VALUE=DATE:20241128
DTEND;VALUE=DATE:20241129
DTSTAMP:20260425T155117
CREATED:20240729T184500Z
LAST-MODIFIED:20241126T053214Z
UID:2009-1732752000-1732838399@www.urbanhoundne.com
SUMMARY:Holiday Closure – No Daycare or Bar Services
DESCRIPTION:Urban Hound Dog Park & Bar will be closed on Thanksgiving Day to spend time with human & furry family. Happy Thanksgiving!
URL:https://www.urbanhoundne.com/event/holiday-closure-2/
LOCATION:Urban Hound Dog Park & Bar\, 4848 Van Dorn Street Suite 1\, Lincoln\, NE\, 68506\, United States
END:VEVENT
BEGIN:VEVENT
DTSTART;TZID=UTC:20241122T180000
DTEND;TZID=UTC:20241122T210000
DTSTAMP:20260425T155117
CREATED:20241008T143424Z
LAST-MODIFIED:20241008T143424Z
UID:2083-1732298400-1732309200@www.urbanhoundne.com
SUMMARY:TAILgate Party
DESCRIPTION:Join us for a pregame TAILgate at Urban Hound with drinks\, food\, and of your course YOUR PUPS!
URL:https://www.urbanhoundne.com/event/tailgate-party-11/
LOCATION:Urban Hound Dog Park & Bar\, 4848 Van Dorn Street Suite 1\, Lincoln\, NE\, 68506\, United States
ATTACH;FMTTYPE=image/png:https://www.urbanhoundne.com/wp-content/uploads/2024/09/tailgate-22.png
END:VEVENT
BEGIN:VEVENT
DTSTART;TZID=UTC:20241119T183000
DTEND;TZID=UTC:20241119T200000
DTSTAMP:20260425T155117
CREATED:20241008T143130Z
LAST-MODIFIED:20241008T143130Z
UID:2078-1732041000-1732046400@www.urbanhoundne.com
SUMMARY:Barks\, Brews\, & Music Bingo
DESCRIPTION:Join us for a tail-wagging good time with the joy of furry friends\, brews\, and a lively game of music bingo with chances to win pawsome prizes!
URL:https://www.urbanhoundne.com/event/barks-brews-music-bingo-24/
LOCATION:Urban Hound Dog Park & Bar\, 4848 Van Dorn Street Suite 1\, Lincoln\, NE\, 68506\, United States
ATTACH;FMTTYPE=image/png:https://www.urbanhoundne.com/wp-content/uploads/2023/09/music-bingo-2.png
END:VEVENT
BEGIN:VEVENT
DTSTART;TZID=UTC:20241115T180000
DTEND;TZID=UTC:20241115T210000
DTSTAMP:20260425T155117
CREATED:20241008T143401Z
LAST-MODIFIED:20241008T143401Z
UID:2082-1731693600-1731704400@www.urbanhoundne.com
SUMMARY:TAILgate Party
DESCRIPTION:Join us for a pregame TAILgate at Urban Hound with drinks\, food\, and of your course YOUR PUPS!
URL:https://www.urbanhoundne.com/event/tailgate-party-10/
LOCATION:Urban Hound Dog Park & Bar\, 4848 Van Dorn Street Suite 1\, Lincoln\, NE\, 68506\, United States
ATTACH;FMTTYPE=image/png:https://www.urbanhoundne.com/wp-content/uploads/2024/09/tailgate-22.png
END:VEVENT
BEGIN:VEVENT
DTSTART;TZID=UTC:20241112T183000
DTEND;TZID=UTC:20241112T203000
DTSTAMP:20260425T155117
CREATED:20241008T143604Z
LAST-MODIFIED:20241008T143604Z
UID:2085-1731436200-1731443400@www.urbanhoundne.com
SUMMARY:Trivia Night
DESCRIPTION:Bring your furry friends & test your knowledge for Trivia Night! Compete for prizes while enjoying the company of both furry and human friends!
URL:https://www.urbanhoundne.com/event/trivia-night-15/
LOCATION:Urban Hound Dog Park & Bar\, 4848 Van Dorn Street Suite 1\, Lincoln\, NE\, 68506\, United States
ATTACH;FMTTYPE=image/png:https://www.urbanhoundne.com/wp-content/uploads/2023/12/Screenshot-2023-12-22-at-9.13.53 AM.png
END:VEVENT
END:VCALENDAR