BEGIN:VCALENDAR
VERSION:2.0
PRODID:-//Urban Hound Dog Park &amp; Bar - ECPv6.15.20//NONSGML v1.0//EN
CALSCALE:GREGORIAN
METHOD:PUBLISH
X-WR-CALNAME:Urban Hound Dog Park &amp; Bar
X-ORIGINAL-URL:https://www.urbanhoundne.com
X-WR-CALDESC:Events for Urban Hound Dog Park &amp; Bar
REFRESH-INTERVAL;VALUE=DURATION:PT1H
X-Robots-Tag:noindex
X-PUBLISHED-TTL:PT1H
BEGIN:VTIMEZONE
TZID:UTC
BEGIN:STANDARD
TZOFFSETFROM:+0000
TZOFFSETTO:+0000
TZNAME:UTC
DTSTART:20240101T000000
END:STANDARD
END:VTIMEZONE
BEGIN:VEVENT
DTSTART;TZID=UTC:20260406T180000
DTEND;TZID=UTC:20260406T210000
DTSTAMP:20260425T110529
CREATED:20260403T215957Z
LAST-MODIFIED:20260403T220040Z
UID:2725-1775498400-1775509200@www.urbanhoundne.com
SUMMARY:Basketball Championship Watch Party - Open on a Monday!
DESCRIPTION:Join us on a Monday to watch some basketball and have a drink of choice with your furry best friend!
URL:https://www.urbanhoundne.com/event/basketball-championship-watch-party-open-on-a-monday/
LOCATION:Urban Hound Dog Park & Bar\, 4848 Van Dorn Street Suite 1\, Lincoln\, NE\, 68506\, United States
END:VEVENT
BEGIN:VEVENT
DTSTART;TZID=UTC:20260405T150000
DTEND;TZID=UTC:20260405T200000
DTSTAMP:20260425T110529
CREATED:20260114T180043Z
LAST-MODIFIED:20260114T180126Z
UID:2707-1775401200-1775419200@www.urbanhoundne.com
SUMMARY:Adjusted Holiday Hours
DESCRIPTION:We will be open from 3-8pm in observance of the holiday. Happy Easter!
URL:https://www.urbanhoundne.com/event/adjusted-holiday-hours/
LOCATION:Urban Hound Dog Park & Bar\, 4848 Van Dorn Street Suite 1\, Lincoln\, NE\, 68506\, United States
END:VEVENT
BEGIN:VEVENT
DTSTART;TZID=UTC:20260329T150000
DTEND;TZID=UTC:20260329T160000
DTSTAMP:20260425T110529
CREATED:20260114T174958Z
LAST-MODIFIED:20260114T174958Z
UID:2703-1774796400-1774800000@www.urbanhoundne.com
SUMMARY:Easter Egg Hunt
DESCRIPTION:Hop on over for a tail-waggin’ good time at our Dog Easter Egg Hunt! Bring your pup to sniff out treat-filled eggs\, snap some Easter photos\, and enjoy drink specials while they hunt!
URL:https://www.urbanhoundne.com/event/easter-egg-hunt-2/
LOCATION:Urban Hound Dog Park & Bar\, 4848 Van Dorn Street Suite 1\, Lincoln\, NE\, 68506\, United States
END:VEVENT
BEGIN:VEVENT
DTSTART;TZID=UTC:20260322T100000
DTEND;TZID=UTC:20260322T110000
DTSTAMP:20260425T110529
CREATED:20260225T150859Z
LAST-MODIFIED:20260225T150859Z
UID:2710-1774173600-1774177200@www.urbanhoundne.com
SUMMARY:Paws & Poses Yoga
DESCRIPTION:Join us for a dog-yoga class from Kjerstin Egger – $10 per person\, includes a free mimosa! Standard dog entry rates apply
URL:https://www.urbanhoundne.com/event/paws-poses-yoga-7/
LOCATION:Urban Hound Dog Park & Bar\, 4848 Van Dorn Street Suite 1\, Lincoln\, NE\, 68506\, United States
ATTACH;FMTTYPE=image/jpeg:https://www.urbanhoundne.com/wp-content/uploads/2025/10/26B40FFD-E8A5-4ABA-A4C8-45706FC96728-scaled.jpg
END:VEVENT
BEGIN:VEVENT
DTSTART;TZID=UTC:20260317T190000
DTEND;TZID=UTC:20260317T210000
DTSTAMP:20260425T110529
CREATED:20260308T200312Z
LAST-MODIFIED:20260308T200312Z
UID:2714-1773774000-1773781200@www.urbanhoundne.com
SUMMARY:Music Bingo
DESCRIPTION:
URL:https://www.urbanhoundne.com/event/music-bingo/
LOCATION:Urban Hound Dog Park & Bar\, 4848 Van Dorn Street Suite 1\, Lincoln\, NE\, 68506\, United States
END:VEVENT
BEGIN:VEVENT
DTSTART;TZID=UTC:20260317T180000
DTEND;TZID=UTC:20260317T210000
DTSTAMP:20260425T110529
CREATED:20260308T200059Z
LAST-MODIFIED:20260308T200059Z
UID:2712-1773770400-1773781200@www.urbanhoundne.com
SUMMARY:Lucky Paw-ty
DESCRIPTION:Green Drink & Shot Specials • Music Bingo • Costume Contest • Leprechaun Hunt • Prizes
URL:https://www.urbanhoundne.com/event/lucky-paw-ty/
LOCATION:Urban Hound Dog Park & Bar\, 4848 Van Dorn Street Suite 1\, Lincoln\, NE\, 68506\, United States
END:VEVENT
BEGIN:VEVENT
DTSTART;TZID=UTC:20260227T183000
DTEND;TZID=UTC:20260227T210000
DTSTAMP:20260425T110529
CREATED:20260114T174113Z
LAST-MODIFIED:20260114T174113Z
UID:2699-1772217000-1772226000@www.urbanhoundne.com
SUMMARY:Card Game Night
DESCRIPTION:Join us for a Card Game Night! Bring a human or furry friend to join in on the Friday night fun! Must be 18+ to enter/play!
URL:https://www.urbanhoundne.com/event/card-game-night-4/
LOCATION:Urban Hound Dog Park & Bar\, 4848 Van Dorn Street Suite 1\, Lincoln\, NE\, 68506\, United States
END:VEVENT
BEGIN:VEVENT
DTSTART;TZID=UTC:20260220T183000
DTEND;TZID=UTC:20260220T210000
DTSTAMP:20260425T110529
CREATED:20260114T174140Z
LAST-MODIFIED:20260114T174140Z
UID:2701-1771612200-1771621200@www.urbanhoundne.com
SUMMARY:Dice Game Night
DESCRIPTION:Join us for a Dice Game Night! Bring a human or furry friend to join in on the Friday night fun! Must be 18+ to enter/play!
URL:https://www.urbanhoundne.com/event/dice-game-night-5/
LOCATION:Urban Hound Dog Park & Bar\, 4848 Van Dorn Street Suite 1\, Lincoln\, NE\, 68506\, United States
END:VEVENT
BEGIN:VEVENT
DTSTART;TZID=UTC:20260217T180000
DTEND;TZID=UTC:20260217T210000
DTSTAMP:20260425T110529
CREATED:20260112T033905Z
LAST-MODIFIED:20260112T033905Z
UID:2692-1771351200-1771362000@www.urbanhoundne.com
SUMMARY:Mardi Dawg Party + Music Bingo
DESCRIPTION:It’s a Mardi Dawg Party! Join us for Hurricane Punch\, Furry Fun\, and Music Bingo starting at 7pm! Parade attire encouraged!
URL:https://www.urbanhoundne.com/event/mardi-dawg-party-music-bingo/
LOCATION:Urban Hound Dog Park & Bar\, 4848 Van Dorn Street Suite 1\, Lincoln\, NE\, 68506\, United States
ATTACH;FMTTYPE=image/jpeg:https://www.urbanhoundne.com/wp-content/uploads/2025/02/dog-wearing-mardi-gras-mask.jpg
END:VEVENT
BEGIN:VEVENT
DTSTART;VALUE=DATE:20260213
DTEND;VALUE=DATE:20260215
DTSTAMP:20260425T110529
CREATED:20260109T031456Z
LAST-MODIFIED:20260109T031456Z
UID:2684-1770940800-1771113599@www.urbanhoundne.com
SUMMARY:Smooches & Pooches: Valentine's Event
DESCRIPTION:Valentine’s Day at UH! Friendship bracelet making\, fun drink specials\, half off day passes and more!
URL:https://www.urbanhoundne.com/event/smooches-pooches-valentines-event/
LOCATION:Urban Hound Dog Park & Bar\, 4848 Van Dorn Street Suite 1\, Lincoln\, NE\, 68506\, United States
END:VEVENT
BEGIN:VEVENT
DTSTART;TZID=UTC:20260208T140000
DTEND;TZID=UTC:20260208T200000
DTSTAMP:20260425T110529
CREATED:20260112T034141Z
LAST-MODIFIED:20260112T034141Z
UID:2695-1770559200-1770580800@www.urbanhoundne.com
SUMMARY:Puppy Bowl + Super Bowl Watch Party
DESCRIPTION:Join us to watch the Puppy Bowl before the Super Bowl at Urban Hound! Bring your favorite item to share at our potluck!
URL:https://www.urbanhoundne.com/event/puppy-bowl-super-bowl-watch-party/
LOCATION:Urban Hound Dog Park & Bar\, 4848 Van Dorn Street Suite 1\, Lincoln\, NE\, 68506\, United States
END:VEVENT
BEGIN:VEVENT
DTSTART;TZID=UTC:20260206T183000
DTEND;TZID=UTC:20260206T210000
DTSTAMP:20260425T110529
CREATED:20260114T174043Z
LAST-MODIFIED:20260114T174043Z
UID:2697-1770402600-1770411600@www.urbanhoundne.com
SUMMARY:Board Game Night
DESCRIPTION:Join us for a Board Game Night! Bring a human or furry friend to join in on the Friday night fun! Must be 18+ to enter/play!
URL:https://www.urbanhoundne.com/event/board-game-night-5/
LOCATION:Urban Hound Dog Park & Bar\, 4848 Van Dorn Street Suite 1\, Lincoln\, NE\, 68506\, United States
END:VEVENT
BEGIN:VEVENT
DTSTART;TZID=UTC:20260201T143000
DTEND;TZID=UTC:20260201T200000
DTSTAMP:20260425T110529
CREATED:20260109T032331Z
LAST-MODIFIED:20260109T032331Z
UID:2689-1769956200-1769976000@www.urbanhoundne.com
SUMMARY:Puzzle Competition
DESCRIPTION:Get your team together and join us for an afternoon of puzzle‑solving glory. We’ll keep puzzling until one team finishes their 500‑piece puzzle\, crowning our first-ever champion on the spot.
URL:https://www.urbanhoundne.com/event/puzzle-competition/
LOCATION:Urban Hound Dog Park & Bar\, 4848 Van Dorn Street Suite 1\, Lincoln\, NE\, 68506\, United States
END:VEVENT
BEGIN:VEVENT
DTSTART;TZID=UTC:20260130T183000
DTEND;TZID=UTC:20260130T210000
DTSTAMP:20260425T110529
CREATED:20260109T031957Z
LAST-MODIFIED:20260109T031957Z
UID:2683-1769797800-1769806800@www.urbanhoundne.com
SUMMARY:Card Game Night
DESCRIPTION:Join us for a Card Game Night! Bring a human or furry friend to join in on the Friday night fun! Must be 18+ to enter/play!
URL:https://www.urbanhoundne.com/event/card-game-night-3/
LOCATION:Urban Hound Dog Park & Bar\, 4848 Van Dorn Street Suite 1\, Lincoln\, NE\, 68506\, United States
END:VEVENT
BEGIN:VEVENT
DTSTART;TZID=UTC:20260123T183000
DTEND;TZID=UTC:20260123T210000
DTSTAMP:20260425T110529
CREATED:20260109T031926Z
LAST-MODIFIED:20260109T031926Z
UID:2682-1769193000-1769202000@www.urbanhoundne.com
SUMMARY:Dice Game Night
DESCRIPTION:Join us for a Dice Game Night! Bring a human or furry friend to join in on the Friday night fun! Must be 18+ to enter/play!
URL:https://www.urbanhoundne.com/event/dice-game-night-4/
LOCATION:Urban Hound Dog Park & Bar\, 4848 Van Dorn Street Suite 1\, Lincoln\, NE\, 68506\, United States
END:VEVENT
BEGIN:VEVENT
DTSTART;TZID=UTC:20260116T183000
DTEND;TZID=UTC:20260116T210000
DTSTAMP:20260425T110529
CREATED:20260109T031904Z
LAST-MODIFIED:20260109T031904Z
UID:2681-1768588200-1768597200@www.urbanhoundne.com
SUMMARY:Board Game Night
DESCRIPTION:Join us for a Board Game Night! Bring a human or furry friend to join in on the Friday night fun! Must be 18+ to enter/play!
URL:https://www.urbanhoundne.com/event/board-game-night-4/
LOCATION:Urban Hound Dog Park & Bar\, 4848 Van Dorn Street Suite 1\, Lincoln\, NE\, 68506\, United States
END:VEVENT
BEGIN:VEVENT
DTSTART;TZID=UTC:20260111T100000
DTEND;TZID=UTC:20260111T110000
DTSTAMP:20260425T110529
CREATED:20251205T025901Z
LAST-MODIFIED:20251205T025901Z
UID:2662-1768125600-1768129200@www.urbanhoundne.com
SUMMARY:Paws & Poses Yoga
DESCRIPTION:Join us for a dog-yoga class from Kjerstin Egger – $10 per person\, includes a free mimosa! Standard dog entry rates apply
URL:https://www.urbanhoundne.com/event/paws-poses-yoga-6/
LOCATION:Urban Hound Dog Park & Bar\, 4848 Van Dorn Street Suite 1\, Lincoln\, NE\, 68506\, United States
END:VEVENT
BEGIN:VEVENT
DTSTART;VALUE=DATE:20260101
DTEND;VALUE=DATE:20260102
DTSTAMP:20260425T110529
CREATED:20251130T205850Z
LAST-MODIFIED:20251130T205850Z
UID:2656-1767225600-1767311999@www.urbanhoundne.com
SUMMARY:Holiday Closure - No Daycare or Bar Services
DESCRIPTION:
URL:https://www.urbanhoundne.com/event/holiday-closure-no-daycare-or-bar-services-2/
LOCATION:Urban Hound Dog Park & Bar\, 4848 Van Dorn Street Suite 1\, Lincoln\, NE\, 68506\, United States
END:VEVENT
BEGIN:VEVENT
DTSTART;TZID=UTC:20251231T203000
DTEND;TZID=UTC:20251231T210000
DTSTAMP:20260425T110529
CREATED:20251129T173915Z
LAST-MODIFIED:20251129T173915Z
UID:2640-1767213000-1767214800@www.urbanhoundne.com
SUMMARY:NYE Tennis Ball Drop
DESCRIPTION:Join us for a tennis ball drop for your pups to ring in the new year!
URL:https://www.urbanhoundne.com/event/nye-tennis-ball-drop/
LOCATION:Urban Hound Dog Park & Bar\, 4848 Van Dorn Street Suite 1\, Lincoln\, NE\, 68506\, United States
END:VEVENT
BEGIN:VEVENT
DTSTART;TZID=UTC:20251230T150000
DTEND;TZID=UTC:20251231T210000
DTSTAMP:20260425T110529
CREATED:20251129T173750Z
LAST-MODIFIED:20251129T173750Z
UID:2638-1767106800-1767214800@www.urbanhoundne.com
SUMMARY:Martini Bar Pop-Up
DESCRIPTION:
URL:https://www.urbanhoundne.com/event/martini-bar-pop-up/
LOCATION:Urban Hound Dog Park & Bar\, 4848 Van Dorn Street Suite 1\, Lincoln\, NE\, 68506\, United States
END:VEVENT
BEGIN:VEVENT
DTSTART;VALUE=DATE:20251224
DTEND;VALUE=DATE:20251226
DTSTAMP:20260425T110529
CREATED:20251017T144356Z
LAST-MODIFIED:20251130T204653Z
UID:2603-1766534400-1766707199@www.urbanhoundne.com
SUMMARY:Holiday Closure - No Daycare or Bar Services
DESCRIPTION:
URL:https://www.urbanhoundne.com/event/holiday-closure-7/
LOCATION:Urban Hound Dog Park & Bar\, 4848 Van Dorn Street Suite 1\, Lincoln\, NE\, 68506\, United States
END:VEVENT
BEGIN:VEVENT
DTSTART;VALUE=DATE:20251222
DTEND;VALUE=DATE:20251229
DTSTAMP:20260425T110529
CREATED:20251130T205733Z
LAST-MODIFIED:20251130T205733Z
UID:2654-1766361600-1766966399@www.urbanhoundne.com
SUMMARY:Winter Wonderland Pop-Up Bar
DESCRIPTION:Let it snow inside Urban Hound! This week\, step into a shimmering winter wonderland filled with icy blues\, sparkling décor\, and cocktails that chill in all the right ways.
URL:https://www.urbanhoundne.com/event/winter-wonderland-pop-up-bar/
LOCATION:Urban Hound Dog Park & Bar\, 4848 Van Dorn Street Suite 1\, Lincoln\, NE\, 68506\, United States
END:VEVENT
BEGIN:VEVENT
DTSTART;TZID=UTC:20251221T150000
DTEND;TZID=UTC:20251221T170000
DTSTAMP:20260425T110529
CREATED:20251129T172929Z
LAST-MODIFIED:20251129T172929Z
UID:2634-1766329200-1766336400@www.urbanhoundne.com
SUMMARY:Paw Print Ornament Crafternoon
DESCRIPTION:Paw Print Ornaments – $15 per person. Must RSVP by December 19 to claim your spot
URL:https://www.urbanhoundne.com/event/paw-print-ornament-crafternoon/
LOCATION:Urban Hound Dog Park & Bar\, 4848 Van Dorn Street Suite 1\, Lincoln\, NE\, 68506\, United States
END:VEVENT
BEGIN:VEVENT
DTSTART;TZID=UTC:20251218T183000
DTEND;TZID=UTC:20251218T210000
DTSTAMP:20260425T110529
CREATED:20251129T172709Z
LAST-MODIFIED:20251129T172709Z
UID:2632-1766082600-1766091600@www.urbanhoundne.com
SUMMARY:Holiday Movie Trivia
DESCRIPTION:Test your Holiday Movie knowledge with trivia!
URL:https://www.urbanhoundne.com/event/holiday-movie-trivia/
LOCATION:Urban Hound Dog Park & Bar\, 4848 Van Dorn Street Suite 1\, Lincoln\, NE\, 68506\, United States
END:VEVENT
BEGIN:VEVENT
DTSTART;TZID=UTC:20251217T183000
DTEND;TZID=UTC:20251217T210000
DTSTAMP:20260425T110529
CREATED:20251129T172103Z
LAST-MODIFIED:20251129T172103Z
UID:2626-1765996200-1766005200@www.urbanhoundne.com
SUMMARY:Holiday Movie Night
DESCRIPTION:Sit. Stay. Watch a Holiday Movie with your pup! Cozy up for a movie night!
URL:https://www.urbanhoundne.com/event/holiday-movie-night-3/
LOCATION:Urban Hound Dog Park & Bar\, 4848 Van Dorn Street Suite 1\, Lincoln\, NE\, 68506\, United States
END:VEVENT
BEGIN:VEVENT
DTSTART;TZID=UTC:20251216T190000
DTEND;TZID=UTC:20251216T210000
DTSTAMP:20260425T110529
CREATED:20251129T173557Z
LAST-MODIFIED:20251129T173557Z
UID:2636-1765911600-1765918800@www.urbanhoundne.com
SUMMARY:Dog Gift Exchange
DESCRIPTION:Join us for our Dog Gift Exchange! Sign your pup up to participate by 12/5\, and they’ll both give a gift and receive one in return.
URL:https://www.urbanhoundne.com/event/dog-gift-exchange/
LOCATION:Urban Hound Dog Park & Bar\, 4848 Van Dorn Street Suite 1\, Lincoln\, NE\, 68506\, United States
END:VEVENT
BEGIN:VEVENT
DTSTART;VALUE=DATE:20251215
DTEND;VALUE=DATE:20251222
DTSTAMP:20260425T110529
CREATED:20251130T205647Z
LAST-MODIFIED:20251130T205647Z
UID:2652-1765756800-1766361599@www.urbanhoundne.com
SUMMARY:Holiday Who-bilation Pop-Up Bar
DESCRIPTION:Welcome to Whoville at Urban Hound! Expect pops of green\, mischievous fun\, and pups with more holiday spirit than the Grinch himself!
URL:https://www.urbanhoundne.com/event/holiday-who-bilation-pop-up-bar/
LOCATION:Urban Hound Dog Park & Bar\, 4848 Van Dorn Street Suite 1\, Lincoln\, NE\, 68506\, United States
END:VEVENT
BEGIN:VEVENT
DTSTART;TZID=UTC:20251214T150000
DTEND;TZID=UTC:20251214T170000
DTSTAMP:20260425T110529
CREATED:20251129T171724Z
LAST-MODIFIED:20251129T171724Z
UID:2620-1765724400-1765731600@www.urbanhoundne.com
SUMMARY:Pinecone Art Crafternoon
DESCRIPTION:Pinecone Art Crafts – $20 per person. Must RSVP by December 10 to claim your spot
URL:https://www.urbanhoundne.com/event/pinecone-art-crafternoon/
LOCATION:Urban Hound Dog Park & Bar\, 4848 Van Dorn Street Suite 1\, Lincoln\, NE\, 68506\, United States
END:VEVENT
BEGIN:VEVENT
DTSTART;TZID=UTC:20251210T183000
DTEND;TZID=UTC:20251210T210000
DTSTAMP:20260425T110529
CREATED:20251129T171947Z
LAST-MODIFIED:20251129T171947Z
UID:2624-1765391400-1765400400@www.urbanhoundne.com
SUMMARY:Holiday Movie Night
DESCRIPTION:Sit. Stay. Watch a Holiday Movie with your pup! Cozy up for a movie night!
URL:https://www.urbanhoundne.com/event/holiday-movie-night-2/
LOCATION:Urban Hound Dog Park & Bar\, 4848 Van Dorn Street Suite 1\, Lincoln\, NE\, 68506\, United States
END:VEVENT
BEGIN:VEVENT
DTSTART;TZID=UTC:20251209T173000
DTEND;TZID=UTC:20251209T190000
DTSTAMP:20260425T110529
CREATED:20251129T172555Z
LAST-MODIFIED:20251129T172555Z
UID:2630-1765301400-1765306800@www.urbanhoundne.com
SUMMARY:Santa Photos
DESCRIPTION:Santa will be here from 5:30-7:00pm. Come grab some photos of your pup with the big man himself!
URL:https://www.urbanhoundne.com/event/santa-photos/
LOCATION:Urban Hound Dog Park & Bar\, 4848 Van Dorn Street Suite 1\, Lincoln\, NE\, 68506\, United States
ATTACH;FMTTYPE=image/jpeg:https://www.urbanhoundne.com/wp-content/uploads/2025/01/IMG_0755-scaled.jpg
END:VEVENT
END:VCALENDAR