BEGIN:VCALENDAR
VERSION:2.0
PRODID:-//Urban Hound Dog Park &amp; Bar - ECPv6.15.20//NONSGML v1.0//EN
CALSCALE:GREGORIAN
METHOD:PUBLISH
X-ORIGINAL-URL:https://www.urbanhoundne.com
X-WR-CALDESC:Events for Urban Hound Dog Park &amp; Bar
REFRESH-INTERVAL;VALUE=DURATION:PT1H
X-Robots-Tag:noindex
X-PUBLISHED-TTL:PT1H
BEGIN:VTIMEZONE
TZID:UTC
BEGIN:STANDARD
TZOFFSETFROM:+0000
TZOFFSETTO:+0000
TZNAME:UTC
DTSTART:20250101T000000
END:STANDARD
END:VTIMEZONE
BEGIN:VEVENT
DTSTART;TZID=UTC:20260208T140000
DTEND;TZID=UTC:20260208T200000
DTSTAMP:20260424T202415
CREATED:20260112T034141Z
LAST-MODIFIED:20260112T034141Z
UID:2695-1770559200-1770580800@www.urbanhoundne.com
SUMMARY:Puppy Bowl + Super Bowl Watch Party
DESCRIPTION:Join us to watch the Puppy Bowl before the Super Bowl at Urban Hound! Bring your favorite item to share at our potluck!
URL:https://www.urbanhoundne.com/event/puppy-bowl-super-bowl-watch-party/
LOCATION:Urban Hound Dog Park & Bar\, 4848 Van Dorn Street Suite 1\, Lincoln\, NE\, 68506\, United States
END:VEVENT
END:VCALENDAR